BEGIN:VCALENDAR
VERSION:2.0
PRODID:-//Cantabo-CS - ECPv6.15.15//NONSGML v1.0//EN
CALSCALE:GREGORIAN
METHOD:PUBLISH
X-ORIGINAL-URL:https://cantabo-cs.com
X-WR-CALDESC:Eventos para Cantabo-CS
REFRESH-INTERVAL;VALUE=DURATION:PT1H
X-Robots-Tag:noindex
X-PUBLISHED-TTL:PT1H
BEGIN:VTIMEZONE
TZID:Europe/Lisbon
BEGIN:DAYLIGHT
TZOFFSETFROM:+0000
TZOFFSETTO:+0100
TZNAME:WEST
DTSTART:20240331T010000
END:DAYLIGHT
BEGIN:STANDARD
TZOFFSETFROM:+0100
TZOFFSETTO:+0000
TZNAME:WET
DTSTART:20241027T010000
END:STANDARD
BEGIN:DAYLIGHT
TZOFFSETFROM:+0000
TZOFFSETTO:+0100
TZNAME:WEST
DTSTART:20250330T010000
END:DAYLIGHT
BEGIN:STANDARD
TZOFFSETFROM:+0100
TZOFFSETTO:+0000
TZNAME:WET
DTSTART:20251026T010000
END:STANDARD
BEGIN:DAYLIGHT
TZOFFSETFROM:+0000
TZOFFSETTO:+0100
TZNAME:WEST
DTSTART:20260329T010000
END:DAYLIGHT
BEGIN:STANDARD
TZOFFSETFROM:+0100
TZOFFSETTO:+0000
TZNAME:WET
DTSTART:20261025T010000
END:STANDARD
END:VTIMEZONE
BEGIN:VTIMEZONE
TZID:UTC
BEGIN:STANDARD
TZOFFSETFROM:+0000
TZOFFSETTO:+0000
TZNAME:UTC
DTSTART:20240101T000000
END:STANDARD
END:VTIMEZONE
BEGIN:VEVENT
DTSTART;VALUE=DATE:20250907
DTEND;VALUE=DATE:20250908
DTSTAMP:20260423T222546
CREATED:20200916T053539Z
LAST-MODIFIED:20250629T090636Z
UID:14536-1757203200-1757289599@cantabo-cs.com
SUMMARY:XXIII Domingo do Tempo Comum
DESCRIPTION:Onde está a verdadeira sabedoria? A lógica da cruz não é a do mundo\, e o homem nasce e cresce assimilado à do mundo. Quando lhe é anunciada a “loucura da cruz”\, é normal\, e até mesmo salutar\, que hesite\, que seja tomado por dúvidas e perplexidades e que se sente a refletir sobre a escolha a fazer. O cristão não aspira à dor\, mas ao amor. Todavia\, quando o amor é levado até ao extremo\, chega ao dom da vida. Por isso é que a cruz\, de sinal de morte\, se tornou símbolo da vida. \n[…]
URL:https://cantabo-cs.com/canticos/xxxiii-domingo-do-tempo-comum-2/
END:VEVENT
BEGIN:VEVENT
DTSTART;VALUE=DATE:20250908
DTEND;VALUE=DATE:20250909
DTSTAMP:20260423T222546
CREATED:20190721T135613Z
LAST-MODIFIED:20250626T071135Z
UID:5212-1757289600-1757375999@cantabo-cs.com
SUMMARY:Natividade da Virgem Santa Maria
DESCRIPTION:Natividade da Virgem – mosaico de Pietro Cavallini – 1291Igreja de Santa Maria in Trastevere – Roma\nSe eu licitamente me pudera queixar do Evangelista\, neste dia me queixara\, e cuido que com razão. Cala nele o Evangelho três coisas não pequenas\, que devera dizer\, e diz só uma\, posto que grande\, que devera calar. \nA obrigação dos historiadores dos nascimentos das grandes personagens é dizer o lugar onde nasceram\, o tempo em que nasceram\, e os pais de quem nasceram. E celebran­do o mundo hoje o Nascimento da maior Pessoa depois de Deus\, que saiu à luz do mesmo mundo\, o Evangelho que conta e nos propõe a Igreja Católica: nem do lugar\, nem do tempo\, nem dos pais de que nasceu\, faz menção ou memória alguma. Isto é o que cala o Evangelista que devera dizer. E que é o que diz\, que devera calar? \n……………. \nComeça assim a apresentação da Festa litúrgica de hoje\, citando o Sermão do Nascimento da Mãe de Deus\, que o P. António Vieira pregou em Odivelas\, que se encontra publicada no III volume da obra «Santos de cada dia – setembro – outubro – novembro – dezembro»\, que aqui transcrevemos com a devida vénia. Pode lê-la integralmente na obra publicada pelo Secretariado Nacional do Apostolado da Oração – 4ª edição\, revista e atualizada por António José Coelho\, S.J.\, Editorial A.O.\, Braga 2003 (páginas 34-36).
URL:https://cantabo-cs.com/canticos/natividade-da-virgem-santa-maria/
END:VEVENT
BEGIN:VEVENT
DTSTART;VALUE=DATE:20250914
DTEND;VALUE=DATE:20250915
DTSTAMP:20260423T222546
CREATED:20190905T144648Z
LAST-MODIFIED:20250626T071258Z
UID:7107-1757808000-1757894399@cantabo-cs.com
SUMMARY:Exaltação da Santa Cruz
DESCRIPTION:Basílica de S. Clemente | Roma: Mosaico da concha da ábside. “A redenção da Humanidade e do mundo inteiro por obra de Jesus Cristo\, com a sua morte na cruz”\nEsta festa é também chamada da Cruz gloriosa. E os Orientais denominam-na «da preciosa Cruz portadora de Vida». É uma das mais antigas solenidades litúrgicas da Igreja; celebrava-se já em Jerusalém no tempo de Constantino (337). A Cruz que «se exaltava» neste dia era menos a de Jesus a sofrer no Calvário que a de Cristo glorioso subindo para o seu Pai\, depois de vencer a morte e salvar o mundo. O que se recorda na festa de hoje é\, portanto\, o triunfo de Cristo e a mudança por ele causada na condição humana; […] \n\n\n\n\n\n\nComeça com estas palavras a apresentação desta Festa no III volume da obra «Santos de cada dia – setembro – outubro – novembro – dezembro». Pode conferi-la também na referida obra\, publicada pelo Secretariado Nacional do Apostolado da Oração – 4ª edição\, revista e atualizada por António José Coelho\, S.J.\, Editorial A.O.\, Braga 2003 (páginas 51-53). ou lê-la diretamente AQUI.
URL:https://cantabo-cs.com/canticos/exaltacao-da-santa-cruz-2/
END:VEVENT
BEGIN:VEVENT
DTSTART;VALUE=DATE:20250915
DTEND;VALUE=DATE:20250916
DTSTAMP:20260423T222546
CREATED:20190721T141436Z
LAST-MODIFIED:20250626T072929Z
UID:5223-1757894400-1757980799@cantabo-cs.com
SUMMARY:Nossa Senhora das Dores
DESCRIPTION:Havia duas festas das Dores de Maria. Uma que foi instituída em Colónia\, durante o século XV\, por um piedoso arcebispo\, Tierri de Meurs\, a fim de reparar os ultrajes praticados pelos Hussitas contra as imagens da Santíssima Virgem\, era celebrada na sex­ta-feira da semana da Paixão\, semana imediatamente anterior à Semana Santa. Mais tar­de\, o Papa Bento XIII decretou que ela fosse inscrita no catálogo das festas litúrgicas\, para todo o mundo católico\, sob o título de Festa das Sete Dores. Porém\, esta festa vem de mais longe. \n… \nE há uma segunda festa da Compaixão ou das Dores de Maria mais recente\, instituída por Pio VII\, em 1814\, estando envolvido na sua origem o imperador Napoleão… Pode ler uma breve síntese da história desta Festa litúrgica\, que aqui transcrevemos com a devida vénia\, no III volume da obra «Santos de cada dia – setembro – outubro – novembro – dezembro»\, publicada pelo Secretariado Nacional do Apostolado da Oração – 4ª edição\, revista e atualizada por António José Coelho\, S.J.\, Editorial A.O.\, Braga 2003 (páginas 53-55). \n  \n\n 
URL:https://cantabo-cs.com/canticos/nossa-senhora-das-dores/
END:VEVENT
BEGIN:VEVENT
DTSTART;VALUE=DATE:20250921
DTEND;VALUE=DATE:20250922
DTSTAMP:20260423T222546
CREATED:20190905T141945Z
LAST-MODIFIED:20250626T071927Z
UID:7083-1758412800-1758499199@cantabo-cs.com
SUMMARY:XXV Domingo do Tempo Comum
DESCRIPTION:Já dizia o salmo 23: “Do Senhor é a terra e o que nela existe\, o mundo inteiro e quantos nele habitam”(vers. 1). O homem é um peregrino\, vive como estrangeiro num mundo que não é o seu. As pessoas não são donas\, mas administradoras dos bens de Deus. Nas mãos de cada pessoa o Senhor coloca um tesouro. Que fazer para o administrar bem? A palavra de Deus neste domingo dá-nos a resposta. \n[…]
URL:https://cantabo-cs.com/canticos/xxv-domingo-do-tempo-comum/
END:VEVENT
BEGIN:VEVENT
DTSTART;VALUE=DATE:20250928
DTEND;VALUE=DATE:20250929
DTSTAMP:20260423T222546
CREATED:20190905T142123Z
LAST-MODIFIED:20250626T072156Z
UID:7085-1759017600-1759103999@cantabo-cs.com
SUMMARY:XXVI Domingo do Tempo Comum
DESCRIPTION:Parábola do «Rico Avarento»\, escola flamenga (1600-1625)\, pintura de Jacopo Bassano conservada na Galleria Sabauda\, de Turim\nEm cada domingo reunimo-nos para a celebração da Eucaristia. Mas não podemos julgar da nossa bondade e santificação exclusivamente por esta presença comunitária na celebração do culto. A correspondência dos nossos actos às palavras será a justa medida da autenticidade da nossa fé\, fraternidade e amor aos homens nossos irmãos. A liturgia da Palavra deste domingo afirma o perigo da riqueza\, porque facilmente cria resistência à lei de Deus e surdez à sua palavra. Assim se fecha o coração do homem a Deus e ao próximo. \n[…] \n \n 
URL:https://cantabo-cs.com/canticos/xxvi-domingo-do-tempo-comum/
END:VEVENT
BEGIN:VEVENT
DTSTART;VALUE=DATE:20250929
DTEND;VALUE=DATE:20250930
DTSTAMP:20260423T222546
CREATED:20190721T142702Z
LAST-MODIFIED:20250626T073023Z
UID:5233-1759104000-1759190399@cantabo-cs.com
SUMMARY:S. Miguel\, S. Gabriel e S. Rafael\, Arcanjos
DESCRIPTION:Santos Arcanjos no monte Tepeyac – Santuário de Guadalupe (México)\nA Sagrada Escritura só nos indica o nome de três anjos: S. Miguel\, S. Gabriel e S. Rafael. Dos outros conhecemos muitas das suas atuações e experimentamos o seu benéfico influxo\, mas desconhecemos os seus nomes. Algo mais\, que se saiba a este respeito\, vem-nos por revelações particulares… \nA Escritura apresenta-nos S. Miguel como o Príncipe das milícias celestes\, o defensor da glória do Senhor. «Houve uma batalha no céu: Miguel e os seus Anjos guerrearam contra o Dragão. O Dragão batalhou\, juntamente com os seus Anjos\, mas foi derrotado e não se encontrou mais um lugar para eles no céu» (Ap 12\, 7-8). Miguel foi constituído por Paulo VI (23.4.1976) padroeiro principal dos Agen­tes de Segurança Pública em toda a Nação Portuguesa (Pio XII já fizera o mesmo com a Itália\, em 1949). \nSão Gabriel é o Anjo da Encarnação. Foi ele que anunciou a Daniel que daí a 70 semanas havia de nascer o Messias Salvador (Dan 9\, 20-27). Apareceu a Zacarias\, comu­nicando-lhe que a sua esposa Isabel\, apesar da idade avançada\, ia ser mãe do Precursor. É ele que pela primeira vez profere as palavras que todas as gerações hão de repetir no decurso dos séculos para saudar e louvar a Virgem de Nazaré: «Ave\, cheia de graça. O Senhor é convosco» (Lc 1\, 28). \nSão Rafael é o Anjo benfazejo que acompanha o jovem Tobias na sua viagem desde Nínive até à Média\, que o defende dos perigos e que patrocina o seu casamento com Sara. É ele que tira da cegueira o velho Tobias. […] \nEstes são alguns excertos da breve apresentação desta festa litúrgica\, no III volume da obra «Santos de cada dia – setembro – outubro – novembro – dezembro»\, que transcrevemos aqui\, com a devida vénia. Pode lê-la integralmente nessa publicação do Secretariado Nacional do Apostolado da Oração – 4ª edição\, revista e atualizada por António José Coelho\, S.J.\, Editorial A.O.\, Braga 2003 (páginas 99-100). \n 
URL:https://cantabo-cs.com/canticos/santos-arcanjos-miguel-gabriel-e-rafael/
END:VEVENT
END:VCALENDAR