BEGIN:VCALENDAR
VERSION:2.0
PRODID:-//Cantabo-CS - ECPv6.15.15//NONSGML v1.0//EN
CALSCALE:GREGORIAN
METHOD:PUBLISH
X-WR-CALNAME:Cantabo-CS
X-ORIGINAL-URL:https://cantabo-cs.com
X-WR-CALDESC:Eventos para Cantabo-CS
REFRESH-INTERVAL;VALUE=DURATION:PT1H
X-Robots-Tag:noindex
X-PUBLISHED-TTL:PT1H
BEGIN:VTIMEZONE
TZID:UTC
BEGIN:STANDARD
TZOFFSETFROM:+0000
TZOFFSETTO:+0000
TZNAME:UTC
DTSTART:20240101T000000
END:STANDARD
END:VTIMEZONE
BEGIN:VEVENT
DTSTART;VALUE=DATE:20250125
DTEND;VALUE=DATE:20250126
DTSTAMP:20260424T083439
CREATED:20190115T104521Z
LAST-MODIFIED:20241114T074704Z
UID:2372-1737763200-1737849599@cantabo-cs.com
SUMMARY:Conversão de S. Paulo (+ ano 34)
DESCRIPTION:Basílica de San Paolo fuori le Mura | Roma\nConclusão do Oitavário pela unidade da Igreja. \nForam tão grandes os benefícios que a Igreja recebeu da poderosa mão de Deus pelo ministério de S. Paulo que\, em sinal de agradecimento\, quis celebrar particularmente a memória da conversão do glorioso Apóstolo.\nEstabeleceu\, pois\, a Igreja uma festa para dar graças a Deus pela conversão deste Apóstolo\, pela sua divina vocação e pela sua missão especial de pregar o Evangelho aos Gentios. Estes três favores\, que Jesus Cristo fez a S. Paulo no momento da sua conversão\, constituem o objeto principal desta festividade. \n[…] \n\n\n\n\n\n\n\n\n\nPode ler AQUI MESMO a parte restante desta breve biografia\, extraída da obra de José Leite\, SJ (Organização de)\, “Santos de Cada Dia” I – Janeiro\, Fevereiro\, Março e Abril | 4ª edição revista e atualizada por António José Coelho\, SJ\, Editorial A.O.\, Braga 2003\, pp. 90-92.
URL:https://cantabo-cs.com/canticos/conversao-de-s-paulo/
END:VEVENT
END:VCALENDAR