BEGIN:VCALENDAR
VERSION:2.0
PRODID:-//Cantabo-CS - ECPv6.15.15//NONSGML v1.0//EN
CALSCALE:GREGORIAN
METHOD:PUBLISH
X-WR-CALNAME:Cantabo-CS
X-ORIGINAL-URL:https://cantabo-cs.com
X-WR-CALDESC:Eventos para Cantabo-CS
REFRESH-INTERVAL;VALUE=DURATION:PT1H
X-Robots-Tag:noindex
X-PUBLISHED-TTL:PT1H
BEGIN:VTIMEZONE
TZID:UTC
BEGIN:STANDARD
TZOFFSETFROM:+0000
TZOFFSETTO:+0000
TZNAME:UTC
DTSTART:20230101T000000
END:STANDARD
END:VTIMEZONE
BEGIN:VEVENT
DTSTART;VALUE=DATE:20241002
DTEND;VALUE=DATE:20241003
DTSTAMP:20260424T122850
CREATED:20190729T175828Z
LAST-MODIFIED:20241006T154220Z
UID:5558-1727827200-1727913599@cantabo-cs.com
SUMMARY:Santos Anjos da Guarda
DESCRIPTION:Os Anjos são puros espíritos mensageiros da bondade de Deus. Segundo a piedade e a tradição cristãs\, bem fundadas no dogma\, as nações\, as dioceses\, as povoações\, estão confiadas à guarda de um anjo. \nO Papa João XXIII conta que\, ao mandá-lo como Delegado Apostólico para a Turquia e Grécia\, Pio XI confiou-lhe este «belíssimo segredo» para acertar no desempe­nho da sua delicada missão: «Quando devo manter uma conversa difícil com qualquer pessoa\, então peço ao meu Anjo da Guarda que fale ao Anjo da Guarda daquela pessoa com que devo tratar». \na Igreja confessa a sua fé pelos Anjos da Guarda\, venerando-os na Liturgia com uma festa própria\, e recomendando o recurso à sua prote­ção\, com uma oração frequente\, como na invocação do Santo Anjo do Senhor… \n…………………………………………………………………………….. \nLeia uma apresentação mais «substanciosa» desta Festa no III volume da obra «Santos de cada dia – setembro – outubro – novembro – dezembro»\, publicada pelo Secretariado Nacional do Apostolado da Oração – 4ª edição\, revista e atualizada por António José Coelho\, S.J.\, Editorial A.O.\, Braga 2003 (páginas 114-116).\n………………………………………………………………\nAs chamadas Orações do Anjo são atribuídas ao Anjo de Portugal (ou Anjo da Paz) que as terá ensinado aos três pastorinhos de Fátima\, em 1916\, nos lugares de Aljustrel e Valinhos:\n1 – Meu Deus\, eu creio\, adoro\, espero e amo-Vos. Peço-Vos perdão para os que não creem\, não adoram\, não esperam e não Vos amam.\n2 – Santíssima Trindade\, Pai\, Filho\, Espírito Santo\, adoro-Vos profundamente e ofereço-Vos o preciosíssimo Corpo\, Sangue\, Alma e Divindade de Jesus Cristo\, presente em todos os sacrários da terra\, em reparação dos ultrajes\, sacrilégios e indiferenças com que Ele mesmo é ofendido. E pelos méritos infinitos do Seu Santíssimo Coração e do Coração Imaculado de Maria\, peço-Vos a conversão dos pobres pecadores.\n===================
URL:https://cantabo-cs.com/canticos/santos-anjos-da-guarda/
END:VEVENT
BEGIN:VEVENT
DTSTART;VALUE=DATE:20241017
DTEND;VALUE=DATE:20241018
DTSTAMP:20260424T122850
CREATED:20190730T073858Z
LAST-MODIFIED:20241006T154534Z
UID:5567-1729123200-1729209599@cantabo-cs.com
SUMMARY:Santo Inácio de Antioquia\, Mártir\, no ano 107
DESCRIPTION:Se se pudesse falar de campeões no martírio\, como símbolo do testemunho máxi­mo do cristão\, eu proporia\, para ocupar esse lugar\, Santo Inácio de Antioquia. A sua amável figura\, amassada com doçura\, mística e valentia\, desconhecendo o medo à dor e à morte\, resplandece\, desde os tempos apostólicos\, como farol e convite para todos os que têm de sofrer para se mostrarem fiéis a Jesus Cristo. O seu retrato está envolto em luz celestial\, não pelo extraordinário dos milagres ou de qualquer forma de prodígios\, mas nela sobrenatural simplicidade do seu proceder\, movendo-se unicamente no mundo da fé\, a partir do qual adquire lógica indomável aquilo que\, aos nossos olhos humanos\, parece encerrar aterradoras perspetivas de dor. \nInácio é cognominado de Theophóros\, portador de Deus. \n……………………………………………………………….\nEste é o primeiro parágrafo da breve biografia deste mártir publicada no III volume da obra «Santos de cada dia – setembro – outubro – novembro – dezembro»\, do Secretariado Nacional do Apostolado da Oração – 4ª edição\, revista e atualizada por António José Coelho\, S.J.\, Editorial A.O.\, Braga 2003. Esse «retrato» do autor de Cartas\, «verda­deiras relíquias imortais»\, consideradas como uma «segunda formulação doutrinal cristã»\, inclui um diálogo com o futuro imperador romano Trajano\, vencedor dos dácios (no ano 106)\, em que é referido o significado da denominação dada ao Santo (Teóforos). Sugerimos a sua leitura integral (páginas 180-184)\,
URL:https://cantabo-cs.com/canticos/santo-inacio-de-antioquia-martir-no-ano-107/
END:VEVENT
END:VCALENDAR