BEGIN:VCALENDAR
VERSION:2.0
PRODID:-//Cantabo-CS - ECPv6.15.15//NONSGML v1.0//EN
CALSCALE:GREGORIAN
METHOD:PUBLISH
X-WR-CALNAME:Cantabo-CS
X-ORIGINAL-URL:https://cantabo-cs.com
X-WR-CALDESC:Eventos para Cantabo-CS
REFRESH-INTERVAL;VALUE=DURATION:PT1H
X-Robots-Tag:noindex
X-PUBLISHED-TTL:PT1H
BEGIN:VTIMEZONE
TZID:UTC
BEGIN:STANDARD
TZOFFSETFROM:+0000
TZOFFSETTO:+0000
TZNAME:UTC
DTSTART:20230101T000000
END:STANDARD
END:VTIMEZONE
BEGIN:VEVENT
DTSTART;VALUE=DATE:20240915
DTEND;VALUE=DATE:20240916
DTSTAMP:20260424T134735
CREATED:20190905T141806Z
LAST-MODIFIED:20240427T074536Z
UID:7081-1726358400-1726444799@cantabo-cs.com
SUMMARY:XXIV Domingo do Tempo Comum
DESCRIPTION:A Liturgia deste domingo traz-nos uma mensagem de esperança. Deus\, que sofre connosco num acto supremo de amor\, ama o mundo. Não permite o mal tranquilamente\, como que cruelmente. O mal não vem d’Ele; pelo contrário\, Ele o combate. Deus apresenta-Se a nós como Salvador\, numa das penas de morte mais cruéis que a humanidade conhece: uma estaca vertical\, uma trave horizontal e aí\, suspenso\, um homem que é Deus. Aquela cruz prolonga-se em todas as gerações como um homem de braços estendidos\, indica o insondável mistério de Deus\, o centro do mistério. Na cruz Deus abriu o seu coração\, revelou o seu mais profundo segredo: um Deus solidário com todos os homens. \n[…]
URL:https://cantabo-cs.com/canticos/xxiv-domingo-do-tempo-comum/
END:VEVENT
BEGIN:VEVENT
DTSTART;VALUE=DATE:20240921
DTEND;VALUE=DATE:20240922
DTSTAMP:20260424T134735
CREATED:20190721T142003Z
LAST-MODIFIED:20240427T080410Z
UID:5227-1726876800-1726963199@cantabo-cs.com
SUMMARY:S. Mateus\, Apóstolo e Evangelista
DESCRIPTION:Michelangelo Merisi da Caravaggio (1573-1610) «descreveu» com o pincel esse momento\, fixando-o numa das suas obras mais belas\, um dos três quadros sobre a vida do apóstolo que se pode admirar na igreja de São Luís dos Franceses\, em Roma\nMateus é um dos apóstolos\, homem decidido e generoso desde o primeiro mo­mento da sua vocação. É também evangelista\, o primeiro que por inspiração divina pôs por escrito a mensagem messiânica de Jesus. Foi ainda fervoroso pregador da boa nova\, que veio a selar com o seu sangue\, como testemunha da verdade e divindade de Cristo. […] \nUm dia em que Jesus saía da cidade de Cafarnaum em direção ao lago\, fixou-se em Mateus\, sentado no seu mocho diante da mesa da contribuição. Foi um fixar-se pró­prio de Jesus; olhou para ele com atenção e sobretudo com amor. O olhar equivalia já a um convite carinhoso. Seguiu-se logo a palavra\, que fala ao ouvido e ao coração: «Mateus\, segue-me». \n[…] \nAssim inicia a breve biografia do primeiro evangelista\, no III volume da obra «Santos de cada dia – setembro – outubro – novembro – dezembro» da qual\, com a devida vénia\, transcrevemos aqui dois parágrafos. Pode lê-la integralmente nessa publicação  do Secretariado Nacional do Apostolado da Oração – 4ª edição\, revista e atualizada por António José Coelho\, S.J.\, Editorial A.O.\, Braga 2003 (páginas 75-76).
URL:https://cantabo-cs.com/canticos/s-mateus-apostolo-e-evangelista/
END:VEVENT
END:VCALENDAR