BEGIN:VCALENDAR
VERSION:2.0
PRODID:-//Cantabo-CS - ECPv6.15.15//NONSGML v1.0//EN
CALSCALE:GREGORIAN
METHOD:PUBLISH
X-WR-CALNAME:Cantabo-CS
X-ORIGINAL-URL:https://cantabo-cs.com
X-WR-CALDESC:Eventos para Cantabo-CS
REFRESH-INTERVAL;VALUE=DURATION:PT1H
X-Robots-Tag:noindex
X-PUBLISHED-TTL:PT1H
BEGIN:VTIMEZONE
TZID:Europe/Lisbon
BEGIN:DAYLIGHT
TZOFFSETFROM:+0000
TZOFFSETTO:+0100
TZNAME:WEST
DTSTART:20210328T010000
END:DAYLIGHT
BEGIN:STANDARD
TZOFFSETFROM:+0100
TZOFFSETTO:+0000
TZNAME:WET
DTSTART:20211031T010000
END:STANDARD
BEGIN:DAYLIGHT
TZOFFSETFROM:+0000
TZOFFSETTO:+0100
TZNAME:WEST
DTSTART:20220327T010000
END:DAYLIGHT
BEGIN:STANDARD
TZOFFSETFROM:+0100
TZOFFSETTO:+0000
TZNAME:WET
DTSTART:20221030T010000
END:STANDARD
BEGIN:DAYLIGHT
TZOFFSETFROM:+0000
TZOFFSETTO:+0100
TZNAME:WEST
DTSTART:20230326T010000
END:DAYLIGHT
BEGIN:STANDARD
TZOFFSETFROM:+0100
TZOFFSETTO:+0000
TZNAME:WET
DTSTART:20231029T010000
END:STANDARD
END:VTIMEZONE
BEGIN:VTIMEZONE
TZID:UTC
BEGIN:STANDARD
TZOFFSETFROM:+0000
TZOFFSETTO:+0000
TZNAME:UTC
DTSTART:20180101T000000
END:STANDARD
END:VTIMEZONE
BEGIN:VEVENT
DTSTART;VALUE=DATE:20220221
DTEND;VALUE=DATE:20220222
DTSTAMP:20260424T140848
CREATED:20200118T104504Z
LAST-MODIFIED:20220625T112149Z
UID:10551-1645401600-1645487999@cantabo-cs.com
SUMMARY:S. Pedro Damião\, Doutor da Igreja\, bispo (1007-1072)
DESCRIPTION:Pietro de Cortona | S. Pedro Damiani apresenta a Regra de Camaldoli à Virgem Maria\, 1629-30 (Toledo – Museu de Arte)\nNascido em Ravena\, Itália\, no ano de 1007\, este futuro cardeal e doutor da Igreja teve começos extremamente modestos. Sendo o último duma numerosa série de filhos\, a mãe recusou-se a amamentá-lo. Morreu pouco depois e também o mari­do. Mais tarde\, um irmão tomou conta de Pedro e encarregou-o de guardar porcos. Feliz­mente\, outro\, chamado Damião\, veio a recolhê-lo e pô-lo a estudar. Em sinal de reconhe­cimento\, Pedro juntou o nome deste irmão ao seu. \nDepois de exercer com brilho o magistério em Faença e Ravena\, Pedro Damião\, cuja saúde era delicada\, entrou\, cerca dos 28 anos de idade\, na Ordem dos Camaldulenses\, no mosteiro de Fonte Avellana\, na Umbria\, onde religiosos austeros levavam vida de eremitas. \n[…] \n  \nEste é o início da breve biografia dedicada a este Santo na página 190 da obra de José Leite\, SJ (Organização de)\, “Santos de Cada Dia” I – Janeiro\, Fevereiro\, Março e Abril | 4ª edição revista e atualizada por António José Coelho\, SJ\, Editorial A.O. Braga 2003.
URL:https://cantabo-cs.com/canticos/s-pedro-damiao-doutor-da-igreja-bispo-1007-1072/
END:VEVENT
BEGIN:VEVENT
DTSTART;VALUE=DATE:20220218
DTEND;VALUE=DATE:20220219
DTSTAMP:20260424T140848
CREATED:20190115T174902Z
LAST-MODIFIED:20220625T111542Z
UID:2406-1645142400-1645228799@cantabo-cs.com
SUMMARY:S. Teotónio\, Primeiro Prior de Santa Cruz de Coimbra (1082-1162)
DESCRIPTION:Estátua de S. Teotónio (Valença do Minho)\nEste ano\, nesta data\, a Igreja celebra a Liturgia da Quinta-feira depois das Cinzas\, mas pode celebrar-se a memória de S. Teotónio.\n* Na Diocese de Coimbra (Cidade de Coimbra) e na Diocese de Viana do Castelo – Pode celebrar-se a memória de S. Teotónio\, Padroeiro secundário\, como se indica na p. 33\, n.9.\n* Na Diocese de Viseu – S. Teotónio\, presbítero\, Padroeiro principal SOLENIDADE\n* Na Ordem de São Domingos – Pode celebrar-se a memória de B. João de Fiesole ou B. Angélico\, presbítero\, como se indica na p. 33\, n.9.\n* Na Congregação das Irmãs Servas de Maria Reparadoras – SS. Sete Fundadores dos Servitas da Virgem Santa Maria – SOLENIDADE (transferida) \nS. Teotónio\, segundo a tradição\, nasceu em 1082\, em Ganfei\, concelho de Valença\, e foi batizado na igreja do convento de beneditinos daquela freguesia. No mesmo convento aprendeu as primeiras letras e doutrina cristã até aos 10 anos. Foi depois confiado aos cuidados do bispo de Coimbra\, Crescêncio\, seu tio paterno.\nPor morte de Crescêncio\, passou o santo à cidade de Viseu\, onde foi ordenado presbítero. Desde que se viu investido na dignidade sacerdotal\, não pensou senão em viver vida mais perfeita; e trabalhou incessantemente na salvação das almas.\nPouco depois\, Gonçalo\, bispo de Coimbra\, sucessor de Crescêncio\, constituiu-o prior da Sé de Viseu\, que nesse tempo estava sujeita ao prelado de Coimbra. Ardendo em desejos de visitar a Terra Santa\, deixou o priorado a um seu amigo… \n[…] \nPara continuar a ler:\nJOSÉ LEITE\, SJ (Organização de)\, “Santos de Cada Dia” I – Janeiro\, Fevereiro\, Março e Abril | 4ª edição revista e atualizada por António José Coelho\, SJ\, Editorial A.O. Braga 2003 – páginas 179-180.
URL:https://cantabo-cs.com/canticos/2406/
END:VEVENT
BEGIN:VEVENT
DTSTART;VALUE=DATE:20220217
DTEND;VALUE=DATE:20220218
DTSTAMP:20260424T140848
CREATED:20190115T174713Z
LAST-MODIFIED:20220625T111435Z
UID:2403-1645056000-1645142399@cantabo-cs.com
SUMMARY:Santos Fundadores da Ordem dos Servitas
DESCRIPTION:Os sete Santos Fundadores dos Servitas (séc. XIII)\nNo século XIII\, andando os mais cultos povos da Itália divididos pelo cisma de Frederico II\, e pelas sanguinolentas lutas das facções políticas\, quis Deus\, na sua misericórdia e providência\, suscitar\, além doutros varões ilustres pela santidade\, sete nobres de Florença que\, unidos entre si pela caridade\, dessem notável exemplo de amor fraterno. Chamavam-se Bonfiglio Monaldi\, Bongiunta Manetto\, Manetto Antelense\, Amídio Amidei\, Ugoccio Ugoccioni\, Sosténio de’ Sostegni e Alessio Falconieri.\nNo ano de 1233\, no dia da Assunção de Nossa Senhora\, estando eles numa reunião piedosa duma irmandade chamada dos Laudantes\, foram avisados pela Mãe de Deus que deveriam abraçar um modo de vida mais santo e mais perfeito.\nDe acordo com o Bispo de Florença\, estes sete varões ilustres\, pondo de parte as riquezas\, vestiram-se pobremente\, cingiram-se com cilícios e\, no dia 8 de Setembro\, natividade de Maria Santíssima\, retiraram-se para uma capelinha de aldeia\, a fim de começaram nova e mais santa vida. \n[…] \nPara continuar a ler: \nJosé Leite\, SJ (Organização de)\, “Santos de Cada Dia” I – Janeiro\, Fevereiro\, Março e Abril | 4ª edição revista e atualizada por António José Coelho\, SJ\, Editorial A.O. Braga 2003 – pág. 177-178.
URL:https://cantabo-cs.com/canticos/santos-fundadores-da-ordem-dos-servitas/
END:VEVENT
BEGIN:VEVENT
DTSTART;VALUE=DATE:20220211
DTEND;VALUE=DATE:20220212
DTSTAMP:20260424T140848
CREATED:20190115T174535Z
LAST-MODIFIED:20220625T111235Z
UID:2400-1644537600-1644623999@cantabo-cs.com
SUMMARY:Nossa Senhora de Lurdes
DESCRIPTION:Abriu-se o Templo de Deus no céu (Ap 11\, 19); o véu da fé rasgou-se e deixou-nos passar\, a fim de vermos o céu\, o que se passa lá em cima\, a sua glória e perene juventude\, a sua força e o seu poder. Isto é Lurdes (em francês Lourdes)\, a porta do céu que se entreabre. Quando a ciência médica e cirúrgica pensava ter atingido o zénite do progresso\, a Virgem Santíssima valia àqueles que os médicos desenganavam. […] A festa de hoje\, ao que parece\, mereceria ser chamada Memória ou Comemoração das aparições\, porque\, na verdade\, de 11 de Fevereiro a 10 de Julho\, a bem-aventurada Virgem Imaculada dignou-se transmitir uma missão durante 18 Aparições… […] \nEste é o início da apresentação desta festa\, na obra de José Leite\, SJ (Organização de)\, “Santos de Cada Dia” I – Janeiro\, Fevereiro\, Março e Abril | 4ª edição revista e atualizada por António José Coelho\, SJ\, Editorial A.O. Braga 2003. Nas páginas 158-161 estão enunciadas e brevemente descritas todas as (18) aparições de Nossa Senhora em Lourdes.
URL:https://cantabo-cs.com/canticos/nossa-senhora-de-lurdes/
END:VEVENT
BEGIN:VEVENT
DTSTART;VALUE=DATE:20220210
DTEND;VALUE=DATE:20220211
DTSTAMP:20260424T140848
CREATED:20190115T174337Z
LAST-MODIFIED:20220625T111127Z
UID:2397-1644451200-1644537599@cantabo-cs.com
SUMMARY:Santa Escolástica\, Virgem (+ 543)
DESCRIPTION:Santa Escolástica – Abadia de Montecassino\nSanta Escolástica\, irmã de S. Bento\, nasceu no território de Núrsia ou Nórcia\, na Úmbria\, Itália. Dotada de excelentes disposições para a virtude\, criada com máximas muito cristãs e nutrida nos exercícios da caridade e devoção\, Escolástica fazia maravilhosos progressos no caminho da santidade\, quando se soube na família da orientação que S. Bento havia abraçado e os prodígios que já se contavam dele em toda a Igreja.\nA resolução de S. Bento a ninguém impressionou tão profundamente como a Escolástica\, que desde a morte dos pais vivia mais recolhida ainda no retiro de sua casa. Considerando ela que a perfeição evangélica\, professada pelo irmão\, era igualmente proposta a todos os cristãos\, distribuiu pelos pobres os seus haveres e\, acompanhada só duma criada de confiança\, partiu secretamente em busca do irmão. \n[…] \nPara continuar a ler:\nJOSÉ LEITE\, SJ (Organização de)\, “Santos de Cada Dia” I – Janeiro\, Fevereiro\, Março e Abril | 4ª edição revista e atualizada por António José Coelho\, SJ\, Editorial A.O. Braga 2003.
URL:https://cantabo-cs.com/canticos/santa-escolastica/
END:VEVENT
BEGIN:VEVENT
DTSTART;VALUE=DATE:20220208
DTEND;VALUE=DATE:20220209
DTSTAMP:20260424T140848
CREATED:20200118T094444Z
LAST-MODIFIED:20220625T110934Z
UID:10529-1644278400-1644364799@cantabo-cs.com
SUMMARY:S. Jerónimo Emiliano\, Confessor (1481-1537)\, Padroeiro dos órfãos
DESCRIPTION:No século XVI\, quando era tão grande o perigo de os cristãos se paganizarem devido ao falso Renascimento\, Deus interveio diretamente e multiplicou os santos e profetas\, que falaram sobretudo com a linguagem do amor e da caridade. S. Camilo e S. Caetano levantam hospitais; S. José de Calasanz abre escolas para pobres; Santo Inácio abre colégios\, universidades e uma casa de refúgio; S. Jerónimo Emiliano multiplica toda a espécie de beneficência\, especialmente os asilos para órfãos. \nA vida deste pai dos órfãos é metade sombra e metade luz. Vive cerca de 30 anos nas sombras da paixão. Nasce no palácio dos Emiliani de Veneza\, no ano de 1481\, e passa a juventude entre a ambição e o prazer do aristocrata do Renascimento\, amigo de festas\, jogador e duelista. Serve Veneza como governador e como militar. Aos 15 anos é soldado e aos 25 senador. \nA desgraça abre-lhe\, como a tantos outros\, os olhos da alma e\, na noite do abando­no e da humilhação\, levanta-os para o céu. Na guerra de Veneza com Luís XII\, Jerónimo intervém muito ativamente. Tinha 28 anos. Sitiado na praça de Castelnuovo\, resiste como herói. O governador abandona a praça aproveitando a noite e Emiliano coloca-se à frente da guarnição\, até que a fortaleza se transforma num montão de ruínas. O resultado foi ser preso e metido num calaboiço. Neste as trevas dão-lhe luz e começa a meditar pela primeira vez no assunto transcendente da alma. \n[…] \nPara continuar a ler: \nJosé Leite\, SJ (Organização de)\, “Santos de Cada Dia” I – Janeiro\, Fevereiro\, Março e Abril | 4ª edição revista e atualizada por António José Coelho\, SJ\, Editorial A.O. Braga 2003 – pág. 149-150.
URL:https://cantabo-cs.com/canticos/s-jeronimo-emiliano-confessor-1481-1537-padroeiro-dos-orfaos/
END:VEVENT
BEGIN:VEVENT
DTSTART;VALUE=DATE:20220205
DTEND;VALUE=DATE:20220206
DTSTAMP:20260424T140848
CREATED:20190115T173816Z
LAST-MODIFIED:20220625T110618Z
UID:2391-1644019200-1644105599@cantabo-cs.com
SUMMARY:Santa Águeda
DESCRIPTION: Ramón de Oscáriz (pintor renacentista español) | Santa Águeda | Museu de Navarra \nSanta Águeda ou Ágata\, Virgem\, mártir (+ 251)\nO culto de Santa Águeda\, virgem e mártir siciliana\, é antiquíssimo. O seu nome figura no 1.° Cânone da Missa e em Roma chegou a haver mais de doze igrejas a ela dedicadas. Infelizmente as Atas do seu martírio são tardias e o autor delas propôs-se escrever um romance edificante e maravilhoso\, mais que uma história. O fundo\, todavia\, deve conservar-se\, sobretudo quando as respostas da Santa estão em plena concordância com o tempo e a psicologia dos primeiros mártires.\nAs Actas chegaram a nós em duas recensões gregas e numa latina. As três relações concordam em quase tudo\, excetuados pequenos pormenores\, e parecem derivar duma origem comum\, pouco autorizada também\, embora com mais traços históricos. O tempo em que padeceu a Santa\, é necessário colocá-lo no império de Décio\, no seu terceiro consulado\, isto é\, no ano de 251. Santa Águeda era natural de Catânia (Sicília) e de família nobre e rica. Desde pequena conheceu o Evangelho e entusiasmou-se pelo ideal da pureza que dedicou a Cristo\, como flor de brancura e aroma singular. […] \nPara continuar a ler:\nJOSÉ LEITE\, SJ (Organização de)\, “Santos de Cada Dia” I – Janeiro\, Fevereiro\, Março e Abril | 4ª edição revista e atualizada por António José Coelho\, SJ\, Editorial A.O. Braga 2003.
URL:https://cantabo-cs.com/canticos/santa-agueda/
END:VEVENT
BEGIN:VEVENT
DTSTART;VALUE=DATE:20220116
DTEND;VALUE=DATE:20220117
DTSTAMP:20260424T140848
CREATED:20200103T095057Z
LAST-MODIFIED:20211219T104133Z
UID:9964-1642291200-1642377599@cantabo-cs.com
SUMMARY:II Domingo do Tempo Comum
DESCRIPTION:Esta semana que passou\, começou o Tempo Comum. São 33 ou 34 semanas no ciclo do ano (este ano 34)\, destinadas não a celebrar um aspecto particular do mistério de Cristo\, mas o próprio mistério de Cristo na sua globalidade. E esta globalidade inclui também a Igreja\, Corpo de Cristo. \nDeus\, no Seu amor pelos homens\, foi-Se-lhes manifestando progressivamente\, até atingir o seu ponto culminante em Jesus Cristo. Ele é a palavra definitiva\, sempre actual\, à qual devemos assentimento generoso e total. Não é simples adesão a uma doutrina\, mas deve ser uma união vital com uma Pessoa – Jesus Cristo.
URL:https://cantabo-cs.com/canticos/ii-domingo-do-tempo-comum-2/
END:VEVENT
BEGIN:VEVENT
DTSTART;VALUE=DATE:20190210
DTEND;VALUE=DATE:20190211
DTSTAMP:20260424T140848
CREATED:20190115T095348Z
LAST-MODIFIED:20190128T095919Z
UID:2347-1549756800-1549843199@cantabo-cs.com
SUMMARY:V Domingo do Tempo Comum
DESCRIPTION:
URL:https://cantabo-cs.com/canticos/v-domingo-do-tempo-comum/
END:VEVENT
BEGIN:VEVENT
DTSTART;VALUE=DATE:20190203
DTEND;VALUE=DATE:20190204
DTSTAMP:20260424T140848
CREATED:20190115T095321Z
LAST-MODIFIED:20190128T095854Z
UID:2345-1549152000-1549238399@cantabo-cs.com
SUMMARY:IV Domingo do Tempo Comum
DESCRIPTION:
URL:https://cantabo-cs.com/canticos/iv-domingo-do-tempo-comum/
END:VEVENT
BEGIN:VEVENT
DTSTART;VALUE=DATE:20190120
DTEND;VALUE=DATE:20190121
DTSTAMP:20260424T140848
CREATED:20190115T095120Z
LAST-MODIFIED:20190128T095640Z
UID:2341-1547942400-1548028799@cantabo-cs.com
SUMMARY:II domingo do Tempo Comum
DESCRIPTION:
URL:https://cantabo-cs.com/canticos/ii-domingo-do-tempo-comum/
END:VEVENT
END:VCALENDAR