BEGIN:VCALENDAR
VERSION:2.0
PRODID:-//Cantabo-CS - ECPv6.15.15//NONSGML v1.0//EN
CALSCALE:GREGORIAN
METHOD:PUBLISH
X-WR-CALNAME:Cantabo-CS
X-ORIGINAL-URL:https://cantabo-cs.com
X-WR-CALDESC:Eventos para Cantabo-CS
REFRESH-INTERVAL;VALUE=DURATION:PT1H
X-Robots-Tag:noindex
X-PUBLISHED-TTL:PT1H
BEGIN:VTIMEZONE
TZID:Europe/Lisbon
BEGIN:DAYLIGHT
TZOFFSETFROM:+0000
TZOFFSETTO:+0100
TZNAME:WEST
DTSTART:20250330T010000
END:DAYLIGHT
BEGIN:STANDARD
TZOFFSETFROM:+0100
TZOFFSETTO:+0000
TZNAME:WET
DTSTART:20251026T010000
END:STANDARD
BEGIN:DAYLIGHT
TZOFFSETFROM:+0000
TZOFFSETTO:+0100
TZNAME:WEST
DTSTART:20260329T010000
END:DAYLIGHT
BEGIN:STANDARD
TZOFFSETFROM:+0100
TZOFFSETTO:+0000
TZNAME:WET
DTSTART:20261025T010000
END:STANDARD
BEGIN:DAYLIGHT
TZOFFSETFROM:+0000
TZOFFSETTO:+0100
TZNAME:WEST
DTSTART:20270328T010000
END:DAYLIGHT
BEGIN:STANDARD
TZOFFSETFROM:+0100
TZOFFSETTO:+0000
TZNAME:WET
DTSTART:20271031T010000
END:STANDARD
END:VTIMEZONE
BEGIN:VTIMEZONE
TZID:UTC
BEGIN:STANDARD
TZOFFSETFROM:+0000
TZOFFSETTO:+0000
TZNAME:UTC
DTSTART:20250101T000000
END:STANDARD
END:VTIMEZONE
BEGIN:VEVENT
DTSTART;VALUE=DATE:20260621
DTEND;VALUE=DATE:20260622
DTSTAMP:20260423T192724
CREATED:20210517T070803Z
LAST-MODIFIED:20260330T085920Z
UID:19618-1782000000-1782086399@cantabo-cs.com
SUMMARY:XII Domingo do Tempo Comum
DESCRIPTION:O tema deste domingo é a perseguição. A luz de Deus acaba sempre por perturbar a ordem (ou a desordem) estabelecida\, e\, inevitavelmente\, desencadeia uma reacção. A perseguição sempre acompanhou a vida dos profetas\, como vemos\, no Antigo Testamento\, o que aconteceu a Jeremias. Jesus ensina-nos que a perseguição será também o distintivo dos seus seguidores\, se quiserem ser coerentes com a fé que professam. Mas na luta entre o bem e o mal Cristo terá a vitória final. \n[…]
URL:https://cantabo-cs.com/canticos/xii-domingo-do-tempo-comum/
END:VEVENT
BEGIN:VEVENT
DTSTART;TZID=UTC:20260624T000000
DTEND;TZID=UTC:20260625T235900
DTSTAMP:20260423T192724
CREATED:20190321T143606Z
LAST-MODIFIED:20260330T090120Z
UID:4203-1782259200-1782431940@cantabo-cs.com
SUMMARY:Nascimento de S. João Baptista
DESCRIPTION:Domenico Ghirlandaio | Nascimento de João Baptista (Capela Tornabuoni – Santa Maria Novella – Florença)\nO nosso guia mais seguro para a vida de S. João\, desde que foi concebido\, é o texto dos Evangelhos. «Nos dias de Herodes\, rei da Judeia\, existiu um sacerdote chamado Zacarias\, da turma de Abiã\, cuja esposa era da descendência de Aarão e se chamava Isabel. Eram ambos justos diante de Deus\, cumprindo irrepreensivelmente todos os mandamentos e preceitos do Senhor. Não tinham filhos\, pois Isabel era estéril e os dois de idade avançada» (Lc 1\, 5-7). Pouco sabemos dos antepassados de João. Lucas informa-nos unicamente que Zacarias era\, como seu pai\, sacerdote judaico\, isto é\, descendente de Aarão. Como havia 24 classes de sacerdotes\, cada classe servia apenas duas vezes por ano. […] \nEstes são dois breves excertos do capítulo sobre o nascimento de S. João Batista\, extraídos do II volume da obra «Santos de cada dia – Maio\, junho\, julho e agosto»\, que aqui transcrevemos com a devida vénia. Pode completar estes breves acenos à sua vida lendo a obra publicada pelo Secretariado Nacional do Apostolado da Oração – 4ª edição\, revista e atualizada por António José Coelho\, S.J.\, Editorial A.O.\, Braga 2003 (páginas 212-213). \n…………… \nEstes são dois breves excertos do capítulo sobre o nascimento de S. João Batista\, extraídos do II volume da obra «Santos de cada dia – Maio\, junho\, julho e agosto»\, que aqui transcrevemos com a devida vénia. Pode completar estes breves acenos à sua vida lendo a obra publicada pelo Secretariado Nacional do Apostolado da Oração – 4ª edição\, revista e atualizada por António José Coelho\, S.J.\, Editorial A.O.\, Braga 2003 (páginas 212-213).
URL:https://cantabo-cs.com/canticos/nascimento-de-s-joao-baptista/
END:VEVENT
BEGIN:VEVENT
DTSTART;VALUE=DATE:20260628
DTEND;VALUE=DATE:20260629
DTSTAMP:20260423T192724
CREATED:20210506T135428Z
LAST-MODIFIED:20260330T090419Z
UID:14191-1782604800-1782691199@cantabo-cs.com
SUMMARY:XIII Domingo do Tempo Comum
DESCRIPTION:Dois são os temas apresentados à reflexão pela Palavra de Deus neste domingo: as condições para seguir Jesus – desprendimento\, cruz\, disponibilidade total – e o tema do acolhimento e da hospitalidade e da própria ajuda dois que dedicam a sua vida ao anúncio da salvação. Dizer que sim às exigências da graça e um não às exigências da carne\, ao peso do egoísmo e d o comodismo\, tudo isto é cruz. Para seguir Jesus é necessário passar pelo caminho estreito. Mas só percorrendo este caminho é que se chega à vida\, como só quem tiver perdido a vida por Cristo a encontrará. Também o acolhimento do outro (apóstolos\, pobres ou pequeninos) com generosa hospitalidade e ajuda é sinal de fidelidade ao mandamento novo do amor fraterno sem fronteiras. \n[…]
URL:https://cantabo-cs.com/canticos/xxiii-domingo-do-tempo-comum-2/
END:VEVENT
BEGIN:VEVENT
DTSTART;VALUE=DATE:20260629
DTEND;VALUE=DATE:20260630
DTSTAMP:20260423T192724
CREATED:20190321T144355Z
LAST-MODIFIED:20260330T090534Z
UID:4210-1782691200-1782777599@cantabo-cs.com
SUMMARY:S. Pedro\, Príncipe dos Apóstolos\, (+64) | S. Paulo\, Apóstolo das Gentes (+67)
DESCRIPTION:Rubens (1577-1640)\, São Pedro | Museu do Prado\, Madrid\nPedro foi príncipe dos apóstolos\, cabeça visível da Igreja de Jesus Cristo\, coluna imóvel da fé\, como se exprime o concílio de Éfeso\, pedra e base da religião\, como diz o Calcedonense\, vigário de Jesus Cristo na terra\, cimento\, diz Santo Agostinho\, sobre que se fundou e sobre que assenta a Santa Igreja. Chamava-se Simão antes de subir ao apostolado. Era de Betsaida\, povoação na Galileia\, nas margens do lago de Genesaré\, filho de Jonas ou João\, de condição muito obscura\, pescador de mister\, mas homem de muita bondade. Não se sabe ao certo o ano em que nasceu. Tendo casado em Cafarnaum\, o porto mais célebre daquele grande lago\, chamado em todo o país o mar de Tiberíades\, aí residia em companhia do irmão\, André. Era este discípulo do Baptista\, e tendo visto a Jesus\, de quem ouvira dizer a seu mestre que era o verdadeiro Messias\, deu esta notícia ao irmão Simão\, dizendo-lhe: «Vi o Messias». Simão\, que era de natural vivo e ardente\, e que\, cheio de religião\, suspirava pela vinda do Messias\, não deixou sossegar André enquanto este o não levou a ver o Salvador. […] \nPórtico da Basílica Maior e S. Paulo Extra-muros (Roma)\nPaulo\, apóstolo\, doutor das gentes e oráculo do mundo\, era judeu da tribo de Benjamim e chamava-se Saulo. Nasceu em Tarso\, cidade célebre da Cilícia\, dois anos depois do nascimento de Nosso Senhor. Por nascimento era cidadão romano\, privilégio concedido pelo imperador Augusto aos tarsenses em prémio da sua fidelidade. Seu pai\, que era da seita dos fariseus\, mandou-o para Jerusalém\, sendo ainda jovem\, para cursar a escola de Gamaliel\, aprendendo a doutrina das leis e das tradições. Em pouco tempo fez grandes progressos\, e sendo um dos mais zelosos partidários da lei\, foi também um dos mais ardentes perseguidores da Igreja. Depressa chegou a furor o seu falso zelo. Não contente com pedir encarniçadamente a morte de Santo Estêvão\, quis ter o gosto de guar­dar as capas dos que o apedrejavam. A perseguição\, excitada em Jerusalém contra a Igreja depois da morte do protomártir\, deu boa ocasião a este furioso inimigo dos discípulos de Cristo de satisfazer o seu ódio. Percorria a cidade\, entrava no templo\, revistava as casas e delas arrancava a quantos criam no Senhor\, arrastando-os pelas ruas\, metendo-os nos calabouços e carregando-os de cadeias. […] \nEstes são os primeiros parágrafos de cada uma das breves biografias dos Apóstolos Pedro e Paulo\, extraídos do II volume da obra «Santos de cada dia – Maio\, junho\, julho e agosto»\, que aqui transcrevemos com a devida vénia. Pode ler a parte restante das mesmas na obra publicada pelo Secretariado Nacional do Apostolado da Oração – 4ª edição\, revista e atualizada por António José Coelho\, S.J.\, Editorial A.O.\, Braga 2003 (páginas 241-247; 247-252).
URL:https://cantabo-cs.com/canticos/s-pedro-principe-dos-apostolos-64-paulo-apostolo-das-gentes-67/
END:VEVENT
END:VCALENDAR