BEGIN:VCALENDAR
VERSION:2.0
PRODID:-//Cantabo-CS - ECPv6.15.15//NONSGML v1.0//EN
CALSCALE:GREGORIAN
METHOD:PUBLISH
X-WR-CALNAME:Cantabo-CS
X-ORIGINAL-URL:https://cantabo-cs.com
X-WR-CALDESC:Eventos para Cantabo-CS
REFRESH-INTERVAL;VALUE=DURATION:PT1H
X-Robots-Tag:noindex
X-PUBLISHED-TTL:PT1H
BEGIN:VTIMEZONE
TZID:UTC
BEGIN:STANDARD
TZOFFSETFROM:+0000
TZOFFSETTO:+0000
TZNAME:UTC
DTSTART:20240101T000000
END:STANDARD
END:VTIMEZONE
BEGIN:VEVENT
DTSTART;VALUE=DATE:20251231
DTEND;VALUE=DATE:20260101
DTSTAMP:20260424T011301
CREATED:20190919T191104Z
LAST-MODIFIED:20251018T082023Z
UID:7245-1767139200-1767225599@cantabo-cs.com
SUMMARY:S. Silvestre I\, Papa (+ 335)
DESCRIPTION:Representação do episódio da Tradição segundo a qual o Imperador Constantino confiou o governo de Roma ao Papa São Silvestre – Oratório de São Silvestre\, na Basílica dos Santos Quatro Coroados (Santi Quattro Coronati)\, Roma. No mesmo ciclo pictórico\, encontram-se representados\, entre outros\, a descoberta da verdadeira Cruz\, por Santa Helena\, e o batismo do imperador.\nPiedoso e santo\, mas de personalidade pouco marcada\, apagou-se ao lado dum Imperador culto e ousado como Constantino\, o qual\, mais que servi-lo se terá antes servido dele\, da sua simplicidade e humanidade\, agindo por vezes como verdadeiro bispo da Igreja\, sobretudo no Oriente\, onde recebe o nome de Isapóstolo\, isto é\, igual aos apóstolos. […] \nNo contexto da luta contra o Arianismo\, convocou o primeiro Concílio Ecuménico (universal)\, que reuniu em Niceia\, no ano 325\, mais de 300 bispos\, com o próprio Imperador a presidir em lugar de honra. Os Padres conciliares não tiveram dificuldade em fazer prevalecer a doutrina recebida dos Apóstolos sobre a divindade de Cristo\, proposta energicamente pelo bispo de Alexandria. Santo Atanásio. A heresia de Ario foi condenada sem hesitação e a ortodoxia trinitária ficou exarada no chamado Símbolo Niceno ou Credo\, ratificado por S. Silvestre. \nConstantino\, satisfeito com a união estabelecida\, parte no ano seguinte para as margens do Bósforo onde\, em 330\, inaugura Constantinopla\, a que seria a nova capital do Império\, eixo nevrálgico entre o Oriente e o Ocidente\, até à sua queda em poder dos turcos otomanos\, em 1453. \nData dessa altura a chamada doação constantiniana\, mediante a qual o Imperador entrega à Igreja\, na pessoa de S. Silvestre\, a Domus Faustae\, Casa de Fausta\, sua esposa\, ou palácio imperial de Latrão (residência papal até Leão XI)\, junto ao qual se ergueria uma grandiosa basílica de cinco naves\, dedicada a Cristo Salvador e mais tarde a S. João Baptista e S. João Evangelista (futura e atual catedral episcopal de Roma\, S. João de Latrão). Mais tarde\, doaria igualmente a própria cidade. \nDepois de um longo pontificado\, cheio de acontecimentos e transformações profundas na vida da Igreja\, morre S. Silvestre I no último dia do ano 335\, dia em que a Igreja venera a sua memória. \nPode ler a parte restante da breve biografia deste Santo\, de que transcrevemos aqui a parte substancial\, nas páginas 453-454 do III volume da obra «Santos de cada dia – Setembro\, Outubro\, Novembro\, Dezembro»\, publicado pelo Secretariado Nacional do Apostolado da Oração – 4ª edição\, revista e atualizada por António José Coelho\, S.J.\, Editorial A.O.\, Braga 2003.\n 
URL:https://cantabo-cs.com/canticos/s-silvestre-i-papa-335/
END:VEVENT
END:VCALENDAR