BEGIN:VCALENDAR
VERSION:2.0
PRODID:-//Cantabo-CS - ECPv6.15.15//NONSGML v1.0//EN
CALSCALE:GREGORIAN
METHOD:PUBLISH
X-ORIGINAL-URL:https://cantabo-cs.com
X-WR-CALDESC:Eventos para Cantabo-CS
REFRESH-INTERVAL;VALUE=DURATION:PT1H
X-Robots-Tag:noindex
X-PUBLISHED-TTL:PT1H
BEGIN:VTIMEZONE
TZID:Europe/Lisbon
BEGIN:DAYLIGHT
TZOFFSETFROM:+0000
TZOFFSETTO:+0100
TZNAME:WEST
DTSTART:20250330T010000
END:DAYLIGHT
BEGIN:STANDARD
TZOFFSETFROM:+0100
TZOFFSETTO:+0000
TZNAME:WET
DTSTART:20251026T010000
END:STANDARD
BEGIN:DAYLIGHT
TZOFFSETFROM:+0000
TZOFFSETTO:+0100
TZNAME:WEST
DTSTART:20260329T010000
END:DAYLIGHT
BEGIN:STANDARD
TZOFFSETFROM:+0100
TZOFFSETTO:+0000
TZNAME:WET
DTSTART:20261025T010000
END:STANDARD
BEGIN:DAYLIGHT
TZOFFSETFROM:+0000
TZOFFSETTO:+0100
TZNAME:WEST
DTSTART:20270328T010000
END:DAYLIGHT
BEGIN:STANDARD
TZOFFSETFROM:+0100
TZOFFSETTO:+0000
TZNAME:WET
DTSTART:20271031T010000
END:STANDARD
END:VTIMEZONE
BEGIN:VEVENT
DTSTART;VALUE=DATE:20260615
DTEND;VALUE=DATE:20260616
DTSTAMP:20260423T163818
CREATED:20210310T104920Z
LAST-MODIFIED:20260330T085710Z
UID:17830-1781481600-1781567999@cantabo-cs.com
SUMMARY:Imaculado Coração da Virgem Santa Maria
DESCRIPTION:A devoção ao Imaculado Coração de Maria é conhecida desde o século XVII\, juntamente com a devoção ao Coração de Jesus. Depois das Aparições de Nossa Senhora em Fátima\, teve grande incremento. Os dois Corações\, de Jesus e de Maria\, são inseparáveis: onde está Um também está o Outro. Jesus é o Redentor da Humanidade e Maria\, a Mãe Corredentora. No dia 13 de outubro de 1942\, em plena Segunda Guerra mundial\, o papa Pio XII\, correspondendo ao desejo da Senhora manifestado em Fátima\, consagrou o mundo ao seu Imaculado Coração. [Do site dos Dehonianos]
URL:https://cantabo-cs.com/canticos/imaculado-coracao-da-virgem-santa-maria/
END:VEVENT
END:VCALENDAR