BEGIN:VCALENDAR
VERSION:2.0
PRODID:-//Cantabo-CS - ECPv6.15.15//NONSGML v1.0//EN
CALSCALE:GREGORIAN
METHOD:PUBLISH
X-ORIGINAL-URL:https://cantabo-cs.com
X-WR-CALDESC:Eventos para Cantabo-CS
REFRESH-INTERVAL;VALUE=DURATION:PT1H
X-Robots-Tag:noindex
X-PUBLISHED-TTL:PT1H
BEGIN:VTIMEZONE
TZID:UTC
BEGIN:STANDARD
TZOFFSETFROM:+0000
TZOFFSETTO:+0000
TZNAME:UTC
DTSTART:20250101T000000
END:STANDARD
END:VTIMEZONE
BEGIN:VEVENT
DTSTART;VALUE=DATE:20260611
DTEND;VALUE=DATE:20260612
DTSTAMP:20260423T163818
CREATED:20250321T142430Z
LAST-MODIFIED:20260330T084949Z
UID:4194-1781136000-1781222399@cantabo-cs.com
SUMMARY:S. Barnabé\, Apóstolo
DESCRIPTION:Paulo chama constantemente a S. Barnabé apóstolo\, designação que a liturgia lhe conservou. S. Barnabé recebeu na verdade um chamamento especial para a evangelização nos primeiros anos da Igreja. O próprio Deus\, pela boca de S. Lucas\, no-lo apresenta como homem bom\, cheio de fé e do Espírito. \nEra judeu da tribo de Levi\, que nascera em Chipre\, mas vivia em Jerusalém por altura da primeira pregação apostólica\, e tinha lá família muito próxima\, como a mãe de S. Marcos. Depressa se abriu à graça cristã com ardor e generosidade. Possuía um campo em Jerusalém\, vendeu-o e o dinheiro pô-lo nas mãos dos Apóstolos. \nO seu nome era José\, mas os Apóstolos chamavam-no pelo sobrenome de Bárnaba ou Barnabé\, que significa filho da consolação. S. João Crisóstomo julga que aludiam assim à bondade e simpatia do seu carácter. […] \n====================================== \nEste é apenas o início do capítulo sobre a Festa do Apóstolo Barnabé\, extraído do II volume da obra «Santos de cada dia – Maio\, junho\, julho e agosto»\, que aqui transcrevemos com a devida vénia. Pode ler integralmente a sua biografia na obra publicada pelo Secretariado Nacional do Apostolado da Oração – 4ª edição\, revista e atualizada por António José Coelho\, S.J.\, Editorial A.O.\, Braga 2003 (páginas 180-181).
URL:https://cantabo-cs.com/canticos/s-barnabe-apostolo/
END:VEVENT
END:VCALENDAR