BEGIN:VCALENDAR
VERSION:2.0
PRODID:-//Cantabo-CS - ECPv6.15.15//NONSGML v1.0//EN
CALSCALE:GREGORIAN
METHOD:PUBLISH
X-WR-CALNAME:Cantabo-CS
X-ORIGINAL-URL:https://cantabo-cs.com
X-WR-CALDESC:Eventos para Cantabo-CS
REFRESH-INTERVAL;VALUE=DURATION:PT1H
X-Robots-Tag:noindex
X-PUBLISHED-TTL:PT1H
BEGIN:VTIMEZONE
TZID:UTC
BEGIN:STANDARD
TZOFFSETFROM:+0000
TZOFFSETTO:+0000
TZNAME:UTC
DTSTART:20250101T000000
END:STANDARD
END:VTIMEZONE
BEGIN:VEVENT
DTSTART;VALUE=DATE:20260610
DTEND;VALUE=DATE:20260611
DTSTAMP:20260423T163707
CREATED:20190321T142215Z
LAST-MODIFIED:20260330T084836Z
UID:4190-1781049600-1781135999@cantabo-cs.com
SUMMARY:Santo Anjo da Guarda de Portugal
DESCRIPTION:Os Anjos — que fazem parte desse mundo invisível a que se estende também a ação criadora de Deus — vivem inteiramente dedicados ao louvor e ao serviço de Deus. A inteligência humana tem dificuldade em exprimir a natureza dessas criaturas espirituais. A sua missão\, porém\, é-nos conhecida através da Bíblia\, que\, em tantos passos\, dá testemunho acerca da existência dos Anjos. […] \nEm Portugal\, a devoção ao Anjo da Guarda é muito antiga. Tomou\, porém\, incremento especial com as Aparições do Anjo\, em Fátima\, aos Pastorinhos. Pio XII aprovou a comemoração do Anjo de Portugal no Calendário Litúrgico de Portugal. \nEste é apenas o início do capítulo sobre a Festa do Santo Anjo da Guarda de Portugal\, extraído do II volume da obra «Santos de cada dia – Maio\, junho\, julho e agosto»\, que aqui transcrevemos com a devida vénia. Pode ler integralmente o relato das Aparições do Anjo\, na obra publicada pelo Secretariado Nacional do Apostolado da Oração – 4ª edição\, revista e atualizada por António José Coelho\, S.J.\, Editorial A.O.\, Braga 2003 (páginas 176-178).
URL:https://cantabo-cs.com/canticos/santo-anjo-da-guarda-de-portugal/
END:VEVENT
END:VCALENDAR