BEGIN:VCALENDAR
VERSION:2.0
PRODID:-//Cantabo-CS - ECPv6.15.15//NONSGML v1.0//EN
CALSCALE:GREGORIAN
METHOD:PUBLISH
X-ORIGINAL-URL:https://cantabo-cs.com
X-WR-CALDESC:Eventos para Cantabo-CS
REFRESH-INTERVAL;VALUE=DURATION:PT1H
X-Robots-Tag:noindex
X-PUBLISHED-TTL:PT1H
BEGIN:VTIMEZONE
TZID:Europe/Lisbon
BEGIN:DAYLIGHT
TZOFFSETFROM:+0000
TZOFFSETTO:+0100
TZNAME:WEST
DTSTART:20250330T010000
END:DAYLIGHT
BEGIN:STANDARD
TZOFFSETFROM:+0100
TZOFFSETTO:+0000
TZNAME:WET
DTSTART:20251026T010000
END:STANDARD
BEGIN:DAYLIGHT
TZOFFSETFROM:+0000
TZOFFSETTO:+0100
TZNAME:WEST
DTSTART:20260329T010000
END:DAYLIGHT
BEGIN:STANDARD
TZOFFSETFROM:+0100
TZOFFSETTO:+0000
TZNAME:WET
DTSTART:20261025T010000
END:STANDARD
BEGIN:DAYLIGHT
TZOFFSETFROM:+0000
TZOFFSETTO:+0100
TZNAME:WEST
DTSTART:20270328T010000
END:DAYLIGHT
BEGIN:STANDARD
TZOFFSETFROM:+0100
TZOFFSETTO:+0000
TZNAME:WET
DTSTART:20271031T010000
END:STANDARD
END:VTIMEZONE
BEGIN:VEVENT
DTSTART;VALUE=DATE:20260607
DTEND;VALUE=DATE:20260608
DTSTAMP:20260423T163820
CREATED:20210517T072507Z
LAST-MODIFIED:20260330T084700Z
UID:19621-1780790400-1780876799@cantabo-cs.com
SUMMARY:X Domingo do Tempo Comum
DESCRIPTION:A luta entre o bem e o mal não é de hoje nem de ontem. A dúvida e a insegurança acompanharam o homem desde a sua criação. Mas o homem não está só. A seu lado caminha o Senhor Deus\, que com o homem sofre\, morre e ressuscita\, interessa-se por todos e cada um dos homens\, vindo ao encontro das suas necessidades e anseios. Convida a todos a perseverarem na fé inalterável que salva e a comprometerem-se na realização completa do bem\, da paz e da justiça entre os homens.
URL:https://cantabo-cs.com/canticos/x-domingo-do-tempo-comum/
END:VEVENT
END:VCALENDAR