BEGIN:VCALENDAR
VERSION:2.0
PRODID:-//Cantabo-CS - ECPv6.15.15//NONSGML v1.0//EN
CALSCALE:GREGORIAN
METHOD:PUBLISH
X-ORIGINAL-URL:https://cantabo-cs.com
X-WR-CALDESC:Eventos para Cantabo-CS
REFRESH-INTERVAL;VALUE=DURATION:PT1H
X-Robots-Tag:noindex
X-PUBLISHED-TTL:PT1H
BEGIN:VTIMEZONE
TZID:UTC
BEGIN:STANDARD
TZOFFSETFROM:+0000
TZOFFSETTO:+0000
TZNAME:UTC
DTSTART:20250101T000000
END:STANDARD
END:VTIMEZONE
BEGIN:VEVENT
DTSTART;VALUE=DATE:20260419
DTEND;VALUE=DATE:20260420
DTSTAMP:20260423T134847
CREATED:20190321T100917Z
LAST-MODIFIED:20260122T065059Z
UID:4162-1776556800-1776643199@cantabo-cs.com
SUMMARY:III Domingo da Páscoa
DESCRIPTION:Fonte da imagem: https://www.consolata.org/new/index.php/mission/missioneoggi/item/1142-i-discepoli-di-emmaus-icona-di-un-itinerario-vocazionale\nComo os primeiros discípulos\, é na “Fração do Pão” que nós reconhecemos hoje o Senhor Jesus. Na verdade\, na Eucaristia\, Jesus torna-Se nosso contemporâneo\, para percorrer com os homens os caminhos da vida. “Memorial” do Senhor\, a Eucaristia não é uma simples evocação de uma personagem histórica: é toda a Pessoa viva de Jesus\, é toda a obra que\, na Eucaristia\, se converte em acontecimento real para os homens de hoje. Ao reunirmo-nos\, portanto\, no domingo\, para celebrarmos a Eucaristia\, é em torno de uma Pessoa viva que nos congregamos – Jesus Cristo ressuscitado \n[…]
URL:https://cantabo-cs.com/canticos/https-cantabo-cs-com-ab-3dompascoa/
END:VEVENT
END:VCALENDAR