BEGIN:VCALENDAR
VERSION:2.0
PRODID:-//Cantabo-CS - ECPv6.15.15//NONSGML v1.0//EN
CALSCALE:GREGORIAN
METHOD:PUBLISH
X-ORIGINAL-URL:https://cantabo-cs.com
X-WR-CALDESC:Eventos para Cantabo-CS
REFRESH-INTERVAL;VALUE=DURATION:PT1H
X-Robots-Tag:noindex
X-PUBLISHED-TTL:PT1H
BEGIN:VTIMEZONE
TZID:UTC
BEGIN:STANDARD
TZOFFSETFROM:+0000
TZOFFSETTO:+0000
TZNAME:UTC
DTSTART:20250101T000000
END:STANDARD
END:VTIMEZONE
BEGIN:VEVENT
DTSTART;VALUE=DATE:20260412
DTEND;VALUE=DATE:20260413
DTSTAMP:20260423T134944
CREATED:20190321T100351Z
LAST-MODIFIED:20260122T064805Z
UID:4157-1775952000-1776038399@cantabo-cs.com
SUMMARY:II Domingo da Páscoa
DESCRIPTION:Caravaggio | Incredulidade de São Tomé (1602-1603) – Pinacoteca do Castelo Sanssouci (Potsdam)\nCristo ressuscitou “no primeiro dia da semana”. Nesse mesmo dia e oito dias depois\, apresentou-Se aos seus discípulos\, reunidos\, mostrou-lhes os sinais gloriosos da Paixão e transmitiu-lhes\, com o seu Espírito\, os dons pascais\, compendiados na paz e na reconciliação. Por isso bem depressa esse dia foi considerado pelos discípulos o “Dia do Senhor”\, o Domingo. É por isso que a comunidade dos crentes se reúne nesse dia em volta de Cristo Ressuscitado\, misteriosamente presente nos sinais da assembleia\, da palavra\, do sacerdote\, do pão e do vinho. Este encontro semanal com Cristo Ressuscitado realiza-se\, se modo especial\, na Eucaristia\, “memorial da morte do Senhor”.
URL:https://cantabo-cs.com/canticos/28-de-abril-ii-domingo-de-pascoa/
END:VEVENT
END:VCALENDAR