BEGIN:VCALENDAR
VERSION:2.0
PRODID:-//Cantabo-CS - ECPv6.15.15//NONSGML v1.0//EN
CALSCALE:GREGORIAN
METHOD:PUBLISH
X-WR-CALNAME:Cantabo-CS
X-ORIGINAL-URL:https://cantabo-cs.com
X-WR-CALDESC:Eventos para Cantabo-CS
REFRESH-INTERVAL;VALUE=DURATION:PT1H
X-Robots-Tag:noindex
X-PUBLISHED-TTL:PT1H
BEGIN:VTIMEZONE
TZID:UTC
BEGIN:STANDARD
TZOFFSETFROM:+0000
TZOFFSETTO:+0000
TZNAME:UTC
DTSTART:20250101T000000
END:STANDARD
END:VTIMEZONE
BEGIN:VEVENT
DTSTART;VALUE=DATE:20260405
DTEND;VALUE=DATE:20260406
DTSTAMP:20260423T152435
CREATED:20190321T100243Z
LAST-MODIFIED:20260122T064434Z
UID:4155-1775347200-1775433599@cantabo-cs.com
SUMMARY:Domingo de Páscoa da Ressurreição do Senhor
DESCRIPTION:Pericle Fazzini – Ressurreição (Vaticano | Aula Paulo VI)\nA Páscoa não nos introduz numa fase estática de repouso\, mas sim num dinamismo\, que brota da vida do Ressuscitado. Baptizados na Morte e Ressurreição de Jesus\, começámos a caminhar em novidade de vida. Este nosso caminhar tem a duração da nossa existência e exige de nós esforço\, generosidade e sacrifício. Ressuscitados com Cristo temos de levar uma vida de ressuscitados. Por maiores que sejam as dificuldades não podemos desanimar. É que Cristo ressuscitado\, vivo eternamente\, vai connosco para nos ajudar a sermos fiéis ao Pai e aos homens\, nossos irmãos. \nA Missa do dia de Páscoa deve ser celebrada com grande solenidade. Hoje é a festa das festas\, o dia por excelência de Cristo Senhor\, em que Ele triunfa das trevas da morte para nunca mais morrer. Neste “dia que o Senhor fez” têm o seu termo\, a sua coroação as grandes intervenções de Deus\, as suas diversas “páscoas” (passagens) ao longo da história da salvação. Tem início a nova criação\, nasce o novo Povo de Deus\, a Igreja. Apesar das misérias e sofrimentos da humanidade\, os cristão sabem que o nosso mundo tem um destino maravilhosos\, o de ser o Reino de Deus. A Páscoa é assim fonte de alegria\, de otimismo e de esperança.
URL:https://cantabo-cs.com/canticos/21-de-abril-domingo-de-pascoa/
END:VEVENT
END:VCALENDAR