BEGIN:VCALENDAR
VERSION:2.0
PRODID:-//Cantabo-CS - ECPv6.15.15//NONSGML v1.0//EN
CALSCALE:GREGORIAN
METHOD:PUBLISH
X-ORIGINAL-URL:https://cantabo-cs.com
X-WR-CALDESC:Eventos para Cantabo-CS
REFRESH-INTERVAL;VALUE=DURATION:PT1H
X-Robots-Tag:noindex
X-PUBLISHED-TTL:PT1H
BEGIN:VTIMEZONE
TZID:UTC
BEGIN:STANDARD
TZOFFSETFROM:+0000
TZOFFSETTO:+0000
TZNAME:UTC
DTSTART:20250101T000000
END:STANDARD
END:VTIMEZONE
BEGIN:VEVENT
DTSTART;VALUE=DATE:20260404
DTEND;VALUE=DATE:20260405
DTSTAMP:20260423T134854
CREATED:20190220T072605Z
LAST-MODIFIED:20260122T064319Z
UID:3220-1775260800-1775347199@cantabo-cs.com
SUMMARY:Sábado Santo\, Vigília Pascal
DESCRIPTION:Giotto – O sepulcro vazio e aparição a Maria Madalena | Capela Scrovegni (Pádua)\nNo Sábado Santo a Igreja permanece junto ao sepulcro do Senhor\, meditando na sua Paixão e Morte\, e na sua descida à mansão dos mortos\, e esperando na oração e no jejum a sua Ressurreição. \nSegundo uma antiquíssima tradição\, esta noite deve ser comemorada em honra ado Senhor\, e a Vigília que nela se  celebra\, em memória da noite santa em que Cristo ressuscitou\, deve considerar-se a “mãe de todas as vigílias”\, pois nela a Igreja se mantém de vigília ª espera da ressurreição do Senhor e a celebra com os sacramentos da iniciação. Desde o início a Igreja celebrou a Páscoa anual\, solenidade das solenidades\, principalmente com uma vigília noturna. Com efeito\, a Ressurreição de Cristo é o fundamento da nossa fé e da nossa esperança\, e\, por meio do Batismo e da Confirmação\, fomos inseridos no mistério pascal de Cristo: mortos\, sepultados e ressuscitados com Ele\, com Ele também havemos de reinar. Esta Vigília é também expectativa da vinda do Senhor. \n====================================
URL:https://cantabo-cs.com/canticos/sabado-santo-vigilia-pascal/
END:VEVENT
END:VCALENDAR