BEGIN:VCALENDAR
VERSION:2.0
PRODID:-//Cantabo-CS - ECPv6.15.15//NONSGML v1.0//EN
CALSCALE:GREGORIAN
METHOD:PUBLISH
X-ORIGINAL-URL:https://cantabo-cs.com
X-WR-CALDESC:Eventos para Cantabo-CS
REFRESH-INTERVAL;VALUE=DURATION:PT1H
X-Robots-Tag:noindex
X-PUBLISHED-TTL:PT1H
BEGIN:VTIMEZONE
TZID:UTC
BEGIN:STANDARD
TZOFFSETFROM:+0000
TZOFFSETTO:+0000
TZNAME:UTC
DTSTART:20250101T000000
END:STANDARD
END:VTIMEZONE
BEGIN:VEVENT
DTSTART;VALUE=DATE:20260403
DTEND;VALUE=DATE:20260404
DTSTAMP:20260423T134944
CREATED:20190220T072353Z
LAST-MODIFIED:20260122T063901Z
UID:3218-1775174400-1775260799@cantabo-cs.com
SUMMARY:Sexta-feira da Paixão do Senhor
DESCRIPTION:Giotto – Crucificação \, afresco (1305) | Capella Scrovegni (Pádua)\nNeste dia em “Cristo\, nosso Cordeiro pascal\, foi imolado”\, a Igreja\, meditando a Paixão do seu Senhor e adorando a Cruz\, comemora o seu nascimento do lado de Cristo e intercede pela salvação do mundo inteiro. \n  \n======================
URL:https://cantabo-cs.com/canticos/sexta-feira-santa-morte-do-senhor/
END:VEVENT
END:VCALENDAR