BEGIN:VCALENDAR
VERSION:2.0
PRODID:-//Cantabo-CS - ECPv6.15.15//NONSGML v1.0//EN
CALSCALE:GREGORIAN
METHOD:PUBLISH
X-ORIGINAL-URL:https://cantabo-cs.com
X-WR-CALDESC:Eventos para Cantabo-CS
REFRESH-INTERVAL;VALUE=DURATION:PT1H
X-Robots-Tag:noindex
X-PUBLISHED-TTL:PT1H
BEGIN:VTIMEZONE
TZID:Europe/Lisbon
BEGIN:DAYLIGHT
TZOFFSETFROM:+0000
TZOFFSETTO:+0100
TZNAME:WEST
DTSTART:20250330T010000
END:DAYLIGHT
BEGIN:STANDARD
TZOFFSETFROM:+0100
TZOFFSETTO:+0000
TZNAME:WET
DTSTART:20251026T010000
END:STANDARD
BEGIN:DAYLIGHT
TZOFFSETFROM:+0000
TZOFFSETTO:+0100
TZNAME:WEST
DTSTART:20260329T010000
END:DAYLIGHT
BEGIN:STANDARD
TZOFFSETFROM:+0100
TZOFFSETTO:+0000
TZNAME:WET
DTSTART:20261025T010000
END:STANDARD
BEGIN:DAYLIGHT
TZOFFSETFROM:+0000
TZOFFSETTO:+0100
TZNAME:WEST
DTSTART:20270328T010000
END:DAYLIGHT
BEGIN:STANDARD
TZOFFSETFROM:+0100
TZOFFSETTO:+0000
TZNAME:WET
DTSTART:20271031T010000
END:STANDARD
END:VTIMEZONE
BEGIN:VEVENT
DTSTART;VALUE=DATE:20260322
DTEND;VALUE=DATE:20260323
DTSTAMP:20260423T154659
CREATED:20200205T093742Z
LAST-MODIFIED:20251221T074954Z
UID:11333-1774137600-1774223999@cantabo-cs.com
SUMMARY:Quinto Domingo da Quaresma
DESCRIPTION:O homem do nosso tempo está possuído pela ânsia de viver; está dominado pelo desejo de apanhar a vida com ambas as mãos para dela extrair todo o sumo. Contudo\, a cada momento\, nós verificamos que a vida que nos foi dada nos escapa\, apesar de todos os nossos esforços e de todos os progressos da ciência e da técnica. Mas o cristão sabe que\, com a Fé o Baptismo\, entrou a fazer parte duma nova família\, duma nova humanidade\, em que forma um ser com Cristo\, tão íntima e profundamente unido a Ele que tudo o que se cumpriu no Salvador se realizará também nele. E assim como a morte de Cristo foi seguida pela sua Ressurreição\, o mesmo acontecerá com o baptizado. Esta consoladora certeza deve transfigurar a nossa vida e levar-nos a vencer\, na esperança\, as provações e contradições do tempo presente. \n***************************************
URL:https://cantabo-cs.com/canticos/quinto-domingo-da-quaresma/
END:VEVENT
END:VCALENDAR