BEGIN:VCALENDAR
VERSION:2.0
PRODID:-//Cantabo-CS - ECPv6.15.15//NONSGML v1.0//EN
CALSCALE:GREGORIAN
METHOD:PUBLISH
X-ORIGINAL-URL:https://cantabo-cs.com
X-WR-CALDESC:Eventos para Cantabo-CS
REFRESH-INTERVAL;VALUE=DURATION:PT1H
X-Robots-Tag:noindex
X-PUBLISHED-TTL:PT1H
BEGIN:VTIMEZONE
TZID:Europe/Lisbon
BEGIN:DAYLIGHT
TZOFFSETFROM:+0000
TZOFFSETTO:+0100
TZNAME:WEST
DTSTART:20250330T010000
END:DAYLIGHT
BEGIN:STANDARD
TZOFFSETFROM:+0100
TZOFFSETTO:+0000
TZNAME:WET
DTSTART:20251026T010000
END:STANDARD
BEGIN:DAYLIGHT
TZOFFSETFROM:+0000
TZOFFSETTO:+0100
TZNAME:WEST
DTSTART:20260329T010000
END:DAYLIGHT
BEGIN:STANDARD
TZOFFSETFROM:+0100
TZOFFSETTO:+0000
TZNAME:WET
DTSTART:20261025T010000
END:STANDARD
BEGIN:DAYLIGHT
TZOFFSETFROM:+0000
TZOFFSETTO:+0100
TZNAME:WEST
DTSTART:20270328T010000
END:DAYLIGHT
BEGIN:STANDARD
TZOFFSETFROM:+0100
TZOFFSETTO:+0000
TZNAME:WET
DTSTART:20271031T010000
END:STANDARD
END:VTIMEZONE
BEGIN:VEVENT
DTSTART;VALUE=DATE:20260315
DTEND;VALUE=DATE:20260316
DTSTAMP:20260423T154659
CREATED:20200205T093603Z
LAST-MODIFIED:20251221T074722Z
UID:11331-1773532800-1773619199@cantabo-cs.com
SUMMARY:Quarto Domingo da Quaresma
DESCRIPTION:O tema deste domingo refere-se em especial à vida nova\, surgida do Mistério pascal e comunicada por todos aqueles que\, aceitando Jesus como Messias\, Enviado e Filho de Deus\, aceitam também serem salvos por Ele. O Baptismo é\, portanto\, o nosso segundo nascimento\, no seio da Família de Deus\, a Igreja. Já no domingo passado nos era apresentada a água\, como símbolo dessa vida; neste\, o símbolo é a luz que nos ilumina\, pois o cristão é um “iluminado”\, a partir do Baptismo.
URL:https://cantabo-cs.com/canticos/quarto-domingo-da-quaresma/
END:VEVENT
END:VCALENDAR