BEGIN:VCALENDAR
VERSION:2.0
PRODID:-//Cantabo-CS - ECPv6.15.15//NONSGML v1.0//EN
CALSCALE:GREGORIAN
METHOD:PUBLISH
X-WR-CALNAME:Cantabo-CS
X-ORIGINAL-URL:https://cantabo-cs.com
X-WR-CALDESC:Eventos para Cantabo-CS
REFRESH-INTERVAL;VALUE=DURATION:PT1H
X-Robots-Tag:noindex
X-PUBLISHED-TTL:PT1H
BEGIN:VTIMEZONE
TZID:Europe/Lisbon
BEGIN:DAYLIGHT
TZOFFSETFROM:+0000
TZOFFSETTO:+0100
TZNAME:WEST
DTSTART:20250330T010000
END:DAYLIGHT
BEGIN:STANDARD
TZOFFSETFROM:+0100
TZOFFSETTO:+0000
TZNAME:WET
DTSTART:20251026T010000
END:STANDARD
BEGIN:DAYLIGHT
TZOFFSETFROM:+0000
TZOFFSETTO:+0100
TZNAME:WEST
DTSTART:20260329T010000
END:DAYLIGHT
BEGIN:STANDARD
TZOFFSETFROM:+0100
TZOFFSETTO:+0000
TZNAME:WET
DTSTART:20261025T010000
END:STANDARD
BEGIN:DAYLIGHT
TZOFFSETFROM:+0000
TZOFFSETTO:+0100
TZNAME:WEST
DTSTART:20270328T010000
END:DAYLIGHT
BEGIN:STANDARD
TZOFFSETFROM:+0100
TZOFFSETTO:+0000
TZNAME:WET
DTSTART:20271031T010000
END:STANDARD
END:VTIMEZONE
BEGIN:VEVENT
DTSTART;VALUE=DATE:20260301
DTEND;VALUE=DATE:20260302
DTSTAMP:20260423T164355
CREATED:20221110T155003Z
LAST-MODIFIED:20251221T074141Z
UID:33645-1772323200-1772409599@cantabo-cs.com
SUMMARY:II Domingo do Tempo Comum
DESCRIPTION:Basílica da Transfiguração | Monte Tabor\nApesar do pecado\, pelo qual o homem destrói a amizade com Deus\, Deus toma a iniciativa do diálogo com o homem. A aliança feita com Abraão e todas as outras formas que se lhe seguiram são a preparação da aliança definitiva que há-de ser realizada em Cristo. É também a expressão do desejo que Deus tem de entrara em comunhão como o homem. A esta prova de confiança dada por Deus\, o homem só pode dar a resposta que Abraão deu: aceitar a palavra de Deus\, “sair da sua pátria”\, do seu “carnal”\, pôr-se a caminho\, correndo o “risco” da fé. O nosso caminho\, mesmo de dor\, levar-nos-á sempre à nossa transfiguração em Cristo\, que\, na sua fidelidade ao Pai\, deu a sua vida por nós.
URL:https://cantabo-cs.com/canticos/ii-domingo-do-tempo-comum-3/
END:VEVENT
END:VCALENDAR