BEGIN:VCALENDAR
VERSION:2.0
PRODID:-//Cantabo-CS - ECPv6.15.15//NONSGML v1.0//EN
CALSCALE:GREGORIAN
METHOD:PUBLISH
X-ORIGINAL-URL:https://cantabo-cs.com
X-WR-CALDESC:Eventos para Cantabo-CS
REFRESH-INTERVAL;VALUE=DURATION:PT1H
X-Robots-Tag:noindex
X-PUBLISHED-TTL:PT1H
BEGIN:VTIMEZONE
TZID:UTC
BEGIN:STANDARD
TZOFFSETFROM:+0000
TZOFFSETTO:+0000
TZNAME:UTC
DTSTART:20250101T000000
END:STANDARD
END:VTIMEZONE
BEGIN:VEVENT
DTSTART;VALUE=DATE:20260215
DTEND;VALUE=DATE:20260216
DTSTAMP:20260423T170848
CREATED:20200103T095512Z
LAST-MODIFIED:20251214T064918Z
UID:9972-1771113600-1771199999@cantabo-cs.com
SUMMARY:VI Domingo do Tempo Comum
DESCRIPTION:Jesus fez uma solene advertência no início do sermão da montanha\, ao apresentar a Lei dada por Deus no Sinai\, quando da primeira Aliança\, à luz da graça da Nova Aliança: «Não penseis que vim revogar a Lei ou os Profetas; não vim revogá-los\, mas levá-los à perfeição. Em verdade vos digo: Antes que passem o céu e a Terra\, não passará da Lei a mais pequena letra ou o mais pequeno sinal\, sem que tudo se cumpra. Portanto\, se alguém transgredir um só destes mandamentos\, por mais pequeno que seja\, e ensinar assim aos homens\, será o menor no Reino dos céus. Mas aquele que os praticar e ensinar\, será grande no Reino dos céus» (Mt 5\, 17-19). \nJesus\, o Messias de Israel e\, portanto\, o maior no Reino dos céus\, fazia questão de cumprir a Lei\, executando-a integralmente até nos mais pequenos preceitos\, segundo as suas próprias palavras. Foi\, mesmo\, o único a poder fazê-lo perfeitamente. Os Judeus\, segundo a sua própria confissão\, não puderam nunca cumprir integralmente a Lei sem violação do mínimo preceito Por isso é que\, em cada festa anual da Expiação\, os filhos de Israel pediam a Deus perdão pelas suas transgressões da Lei. Com efeito\, a Lei constitui um todo e\, como lembra São Tiago\, «quem observa toda a Lei\, mas falta num só mandamento\, fica réu de todos os outros» (Tg 2\, 10)3 \nEste princípio da integralidade da observância da Lei\, não só na letra mas também no espírito\, era caro aos fariseus. Tornando-o extensivo a Israel\, conduziram muitos judeus do tempo de Jesus a um zelo religioso extremo E um tal zelo\, se não se ficasse por uma casuística «hipócrita»\, com certeza que prepararia o povo para esta inaudita intervenção de Deus\, que será o cumprimento perfeito da Lei pelo único justo representante de todos os pecadores \nin: «A HOMILIA E O CATECISMO DA IGREJA CATÓLICA – ANO A | DOMINGO VI DO TEMPO COMUM» LER +
URL:https://cantabo-cs.com/canticos/vi-domingo-do-tempo-comum-2/
END:VEVENT
END:VCALENDAR