BEGIN:VCALENDAR
VERSION:2.0
PRODID:-//Cantabo-CS - ECPv6.15.15//NONSGML v1.0//EN
CALSCALE:GREGORIAN
METHOD:PUBLISH
X-WR-CALNAME:Cantabo-CS
X-ORIGINAL-URL:https://cantabo-cs.com
X-WR-CALDESC:Eventos para Cantabo-CS
REFRESH-INTERVAL;VALUE=DURATION:PT1H
X-Robots-Tag:noindex
X-PUBLISHED-TTL:PT1H
BEGIN:VTIMEZONE
TZID:Europe/Lisbon
BEGIN:DAYLIGHT
TZOFFSETFROM:+0000
TZOFFSETTO:+0100
TZNAME:WEST
DTSTART:20250330T010000
END:DAYLIGHT
BEGIN:STANDARD
TZOFFSETFROM:+0100
TZOFFSETTO:+0000
TZNAME:WET
DTSTART:20251026T010000
END:STANDARD
BEGIN:DAYLIGHT
TZOFFSETFROM:+0000
TZOFFSETTO:+0100
TZNAME:WEST
DTSTART:20260329T010000
END:DAYLIGHT
BEGIN:STANDARD
TZOFFSETFROM:+0100
TZOFFSETTO:+0000
TZNAME:WET
DTSTART:20261025T010000
END:STANDARD
BEGIN:DAYLIGHT
TZOFFSETFROM:+0000
TZOFFSETTO:+0100
TZNAME:WEST
DTSTART:20270328T010000
END:DAYLIGHT
BEGIN:STANDARD
TZOFFSETFROM:+0100
TZOFFSETTO:+0000
TZNAME:WET
DTSTART:20271031T010000
END:STANDARD
END:VTIMEZONE
BEGIN:VEVENT
DTSTART;VALUE=DATE:20260214
DTEND;VALUE=DATE:20260215
DTSTAMP:20260423T170745
CREATED:20200118T103128Z
LAST-MODIFIED:20251214T065824Z
UID:10539-1771027200-1771113599@cantabo-cs.com
SUMMARY:S. Cirilo\, monge\, e S. Metódio\, bispo\, Padroeiros da Europa
DESCRIPTION:Os bispos Cirilo e Metódio\, patronos da Europa\, têm também o título de apóstolos dos eslavos (séc. IX) \nCirilo e Metódio\, irmãos\, gregos. Naturais de Tessalónica\, cidade em que viveu e trabalhou São Paulo\, entraram\, desde o início da vocação\, em estreitas relações culturais e espirituais com a Igreja patriarcal de Constantinopla\, então florescente por cultura e atividade missionária\, em cuja alta escola se formaram. […] \nA preeminente obra missionária dos dois foi a missão na Grande Morávia entre os povos que habitavam então a península balcânica e as terras percorridas pelo Danúbio\, empreendida a pedido do príncipe da Morávia\, Roscislaw\, apresentado ao imperador e à Igreja de Constantinopla. \n[…] \nPara saber mais sobre esta Festa propomos a leitura da Carta Apostólica Egregiae virtutis. Com a qual João Paulo II proclamou copatronos de toda a Europa os santos Cirilo e Metódio\, que se encontra publicada neste site e também nas páginas 166-169 da obra de José Leite\, SJ (Organização de)\, “Santos de Cada Dia” I – Janeiro\, Fevereiro\, Março e Abril | 4ª edição revista e atualizada por António José Coelho\, SJ\, Editorial A.O. Braga 2003.
URL:https://cantabo-cs.com/canticos/s-cirilo-e-s-metodio-compatronos-da-europa/
END:VEVENT
END:VCALENDAR