BEGIN:VCALENDAR
VERSION:2.0
PRODID:-//Cantabo-CS - ECPv6.15.15//NONSGML v1.0//EN
CALSCALE:GREGORIAN
METHOD:PUBLISH
X-WR-CALNAME:Cantabo-CS
X-ORIGINAL-URL:https://cantabo-cs.com
X-WR-CALDESC:Eventos para Cantabo-CS
REFRESH-INTERVAL;VALUE=DURATION:PT1H
X-Robots-Tag:noindex
X-PUBLISHED-TTL:PT1H
BEGIN:VTIMEZONE
TZID:UTC
BEGIN:STANDARD
TZOFFSETFROM:+0000
TZOFFSETTO:+0000
TZNAME:UTC
DTSTART:20250101T000000
END:STANDARD
END:VTIMEZONE
BEGIN:VEVENT
DTSTART;VALUE=DATE:20260208
DTEND;VALUE=DATE:20260209
DTSTAMP:20260423T170724
CREATED:20200103T095409Z
LAST-MODIFIED:20251214T064631Z
UID:9970-1770508800-1770595199@cantabo-cs.com
SUMMARY:V Domingo do Tempo Comum
DESCRIPTION:Os cristãos como “filhos da luz”\, são chamados a ser\, no meio dos homens\, “luz do mundo” e “sal da terra”. Inseridos\, pelo Baptismo\, no Corpo Místico de Cristo\, ficam a participar da sua mesma missão. Corresponsáveis da obra comum\, devem trabalhar generosamente na construção da Igreja no mundo e na inspiração cristã da ordem temporal. Para serem “luz do mundo”\, para serem fiéis ao seu compromisso\, torna-se necessário que os cristãos se deixem penetrar da luminosidade de Cristo e impregnar do seu espírito. […] \nPode ler o comentário do P. Manuel da Silva Gaspar na página com a proposta de cânticos para este domingo
URL:https://cantabo-cs.com/canticos/v-domingo-do-tempo-comum-2/
END:VEVENT
END:VCALENDAR