BEGIN:VCALENDAR
VERSION:2.0
PRODID:-//Cantabo-CS - ECPv6.15.15//NONSGML v1.0//EN
CALSCALE:GREGORIAN
METHOD:PUBLISH
X-ORIGINAL-URL:https://cantabo-cs.com
X-WR-CALDESC:Eventos para Cantabo-CS
REFRESH-INTERVAL;VALUE=DURATION:PT1H
X-Robots-Tag:noindex
X-PUBLISHED-TTL:PT1H
BEGIN:VTIMEZONE
TZID:UTC
BEGIN:STANDARD
TZOFFSETFROM:+0000
TZOFFSETTO:+0000
TZNAME:UTC
DTSTART:20250101T000000
END:STANDARD
END:VTIMEZONE
BEGIN:VEVENT
DTSTART;VALUE=DATE:20260202
DTEND;VALUE=DATE:20260203
DTSTAMP:20260423T170336
CREATED:20200103T095301Z
LAST-MODIFIED:20251214T065453Z
UID:9968-1769990400-1770076799@cantabo-cs.com
SUMMARY:Apresentação do Senhor
DESCRIPTION:A festa que a Igreja hoje celebra tem o nome de Apresentação do Senhor no templo. E é também a Purificação de Nossa Senhora ou Senhora das candeias. É hoje o dia da bênção das velas (candeias) e em muitas igrejas\, antes da celebração da Missa\, organiza-se solene procissão\, em que são levadas velas acesas\, símbolos de Jesus Cristo que\, apresentado a Deus no templo de Jerusalém pelo santo velho Simeão\, foi saudado como a luz que veio para iluminar os povos. \nComemora-se o dia em que Maria Santíssima\, em obediência à lei moisaica\, se apresentou no templo do Senhor\, quarenta dias depois do nascimento do divino Filho. Para melhor compreensão deste ato de Maria\, sejam lembradas neste lugar duas leis que Deus impôs\, no Antigo Testamento. A mulher que desse à luz uma criança do sexo masculino ficava privada de entrar no templo durante quarenta dias a seguir ao parto; e se a criança era menina\, o tempo da purificação era de oitenta dias. Passado este tempo\, devia apresentar-se no templo e oferecer um cordeirinho\, duas rolas ou dois pombinhos\, e entregar a oferta ao sacerdote\, para que este rezasse sobre ela. Com esta cerimónia\, a mulher era aceite outra vez na comunhão dos fiéis\, da qual a lei a excluía por algum tempo\, depois de ter dado à luz. […] \nPara continuar a ler: José Leite\, SJ (Organização de)\, “Santos de Cada Dia” I – Janeiro\, Fevereiro\, Março e Abril | 4ª edição revista e atualizada por António José Coelho\, SJ\, Editorial A.O. Braga 2003 – páginas 125-126. \n\n 
URL:https://cantabo-cs.com/canticos/iv-domingo-do-tempo-comum-2/
END:VEVENT
END:VCALENDAR