BEGIN:VCALENDAR
VERSION:2.0
PRODID:-//Cantabo-CS - ECPv6.15.15//NONSGML v1.0//EN
CALSCALE:GREGORIAN
METHOD:PUBLISH
X-ORIGINAL-URL:https://cantabo-cs.com
X-WR-CALDESC:Eventos para Cantabo-CS
REFRESH-INTERVAL;VALUE=DURATION:PT1H
X-Robots-Tag:noindex
X-PUBLISHED-TTL:PT1H
BEGIN:VTIMEZONE
TZID:UTC
BEGIN:STANDARD
TZOFFSETFROM:+0000
TZOFFSETTO:+0000
TZNAME:UTC
DTSTART:20250101T000000
END:STANDARD
END:VTIMEZONE
BEGIN:VEVENT
DTSTART;VALUE=DATE:20260128
DTEND;VALUE=DATE:20260129
DTSTAMP:20260423T170850
CREATED:20190115T104717Z
LAST-MODIFIED:20251214T070155Z
UID:2375-1769558400-1769644799@cantabo-cs.com
SUMMARY:S. Tomás de Aquino | Doutor da Igreja (1225-1274)
DESCRIPTION:Triunfo de S. Tomás de Aquino | Benozzo Gozzoli | Catedral de Pisa (1470-75)\nNão foi Tomás dos santos mais desfigurados por lendas ingénuas ou tradições biográficas. Mas as suas dimensões de gigante do pensamento costumam levar a que seja muito fragmentariamente conhecido. […]\nApresenta-se como natureza vigorosa\, de dimensões atléticas no corpo e de energias esforçadas na alma. Síntese perfeita duma herança lombarda por linha paterna\, de Aquino\, e normanda pela materna\, dos condes de Teate. Último filho varão de família numerosa: doze irmãos\, guerreiros e cavaleiros\, poetas e teólogos\, abadessas ou madres. Recebeu dos monges negros de Monte Cassino a primeira instrução. Vicissitudes de guerra entre o Pontificado e o Império levaram-no a continuar os estudos na Universidade de Nápoles\, onde teve ocasião de conhecer a Ordem de S. Domingos\, para a qual\nveio a orientar-se aos 19 anos. Renunciou ao próprio eu e entregou-se generosamente ao chamamento. Mas encontrou obstinada oposição familiar. […] \nPara continuar a ler:\nJOSÉ LEITE\, SJ (Organização de)\, “Santos de Cada Dia” I – Janeiro\, Fevereiro\, Março e Abril | 4ª edição revista e atualizada por António José Coelho\, SJ\, Editorial A.O. Braga 2003.\nConvidamos também a abrir o SITE https://www.liturgia.pt/ onde\, além de informações e materiais preciosos\, incluindo publicações diversas\, encontra as leituras bíblicas\, orações e referências históricas para cada dia do Ano Litúrgico\, nomeadamente o Martirológio. HOJE
URL:https://cantabo-cs.com/canticos/s-tomas-de-aquino/
END:VEVENT
END:VCALENDAR