BEGIN:VCALENDAR
VERSION:2.0
PRODID:-//Cantabo-CS - ECPv6.15.15//NONSGML v1.0//EN
CALSCALE:GREGORIAN
METHOD:PUBLISH
X-WR-CALNAME:Cantabo-CS
X-ORIGINAL-URL:https://cantabo-cs.com
X-WR-CALDESC:Eventos para Cantabo-CS
REFRESH-INTERVAL;VALUE=DURATION:PT1H
X-Robots-Tag:noindex
X-PUBLISHED-TTL:PT1H
BEGIN:VTIMEZONE
TZID:UTC
BEGIN:STANDARD
TZOFFSETFROM:+0000
TZOFFSETTO:+0000
TZNAME:UTC
DTSTART:20250101T000000
END:STANDARD
END:VTIMEZONE
BEGIN:VEVENT
DTSTART;VALUE=DATE:20260104
DTEND;VALUE=DATE:20260105
DTSTAMP:20260423T182657
CREATED:20200101T164522Z
LAST-MODIFIED:20251021T091910Z
UID:9752-1767484800-1767571199@cantabo-cs.com
SUMMARY:Epifania do Senhor
DESCRIPTION:Giotto-Padua Cappella degli Scrovegni – Epifania\nA solenidade da Epifania (palavra grega que significa “manifestação”\, aparição) é o complemento do Natal. A Epifania celebra a manifestação do Senhor como Deus e Rei universal\, ao mesmo tempo que exalta a glória divina e a contempla brilhando no rosto da Igreja\, sua Esposa\, a nova Jerusalém\, depositária dos tesouros imensos da graça\, oferecidos a todos os povos\, de que os Magos são as primícias. \n________________________________________________
URL:https://cantabo-cs.com/canticos/epifania-do-senhor-ii-domingo-do-natal/
END:VEVENT
END:VCALENDAR