BEGIN:VCALENDAR
VERSION:2.0
PRODID:-//Cantabo-CS - ECPv6.15.15//NONSGML v1.0//EN
CALSCALE:GREGORIAN
METHOD:PUBLISH
X-ORIGINAL-URL:https://cantabo-cs.com
X-WR-CALDESC:Eventos para Cantabo-CS
REFRESH-INTERVAL;VALUE=DURATION:PT1H
X-Robots-Tag:noindex
X-PUBLISHED-TTL:PT1H
BEGIN:VTIMEZONE
TZID:UTC
BEGIN:STANDARD
TZOFFSETFROM:+0000
TZOFFSETTO:+0000
TZNAME:UTC
DTSTART:20250101T000000
END:STANDARD
END:VTIMEZONE
BEGIN:VEVENT
DTSTART;VALUE=DATE:20260103
DTEND;VALUE=DATE:20260104
DTSTAMP:20260423T182753
CREATED:20200101T162922Z
LAST-MODIFIED:20251021T091813Z
UID:9738-1767398400-1767484799@cantabo-cs.com
SUMMARY:Santíssimo Nome de Jesus
DESCRIPTION:Ainda que seja inefável o nome santíssimo de Jesus que foi imposto na Circunci­são a Cristo Senhor\, Redentor do género humano\, todavia para não nos calarmos comple­tamente em tão grande solenidade\, alguma coisa apresentaremos em louvor e glória de tão grande nome\, diante do qual “todo o joelho se dobra nos Céus\, na Terra e nos Infer­nos” (ef. Fil 2\, 10). Porque tão grande é a consolação da alma que se alegra em Cristo\, que a pobreza se toma como riquezas\, a aspereza como delícias e a vileza como honras\, e pelo seu nome todos os suplícios se fazem para ela doces. \n[…] \nEste é o primeiro parágrafo da breve apresentação da festa de hoje que aparece na obra «Santos de cada dia – I (Janeiro\, Fevereiro\, Março\, Abril)» (página 16)\, que aqui transcrevemos\, com a devida vénia. Leia-a integralmente na referida obra\, publicada pelo Secretariado Nacional do Apostolado da Oração – 4ª edição\, revista e atualizada por António José Coelho\, S.J.\, Editorial A.O.\, Braga 2003.\nConvidamos também a abrir o SITE https://www.liturgia.pt/ onde\, além de informações e materiais preciosos\, incluindo publicações diversas\, encontra as leituras bíblicas\, orações e referências históricas para cada dia do Ano Litúrgico\, nomeadamente o Martirológio. HOJE \nOs botões com os títulos dos cânticos propostos a seguir estão ligados às respetivas partituras – em formato PDF – que incluem uma versão instrumental das respetivas melodias. Para quaisquer dúvidas\, comentários ou pedidos\, não hesite em contactar o titular do site\, utilizando este formulário.
URL:https://cantabo-cs.com/canticos/santissimo-nome-de-jesus/
END:VEVENT
END:VCALENDAR