BEGIN:VCALENDAR
VERSION:2.0
PRODID:-//Cantabo-CS - ECPv6.15.15//NONSGML v1.0//EN
CALSCALE:GREGORIAN
METHOD:PUBLISH
X-ORIGINAL-URL:https://cantabo-cs.com
X-WR-CALDESC:Eventos para Cantabo-CS
REFRESH-INTERVAL;VALUE=DURATION:PT1H
X-Robots-Tag:noindex
X-PUBLISHED-TTL:PT1H
BEGIN:VTIMEZONE
TZID:UTC
BEGIN:STANDARD
TZOFFSETFROM:+0000
TZOFFSETTO:+0000
TZNAME:UTC
DTSTART:20240101T000000
END:STANDARD
END:VTIMEZONE
BEGIN:VTIMEZONE
TZID:Europe/Lisbon
BEGIN:DAYLIGHT
TZOFFSETFROM:+0000
TZOFFSETTO:+0100
TZNAME:WEST
DTSTART:20240331T010000
END:DAYLIGHT
BEGIN:STANDARD
TZOFFSETFROM:+0100
TZOFFSETTO:+0000
TZNAME:WET
DTSTART:20241027T010000
END:STANDARD
BEGIN:DAYLIGHT
TZOFFSETFROM:+0000
TZOFFSETTO:+0100
TZNAME:WEST
DTSTART:20250330T010000
END:DAYLIGHT
BEGIN:STANDARD
TZOFFSETFROM:+0100
TZOFFSETTO:+0000
TZNAME:WET
DTSTART:20251026T010000
END:STANDARD
BEGIN:DAYLIGHT
TZOFFSETFROM:+0000
TZOFFSETTO:+0100
TZNAME:WEST
DTSTART:20260329T010000
END:DAYLIGHT
BEGIN:STANDARD
TZOFFSETFROM:+0100
TZOFFSETTO:+0000
TZNAME:WET
DTSTART:20261025T010000
END:STANDARD
END:VTIMEZONE
BEGIN:VEVENT
DTSTART;VALUE=DATE:20251228
DTEND;VALUE=DATE:20251229
DTSTAMP:20260423T194747
CREATED:20190919T190623Z
LAST-MODIFIED:20251018T082432Z
UID:7239-1766880000-1766966399@cantabo-cs.com
SUMMARY:Festa dos Santos Inocentes\, Mártires
DESCRIPTION:Quando os Magos chegaram a Belém\, guiados por uma estrela misteriosa\, «encontraram o Menino com Maria e\, prostrando-se\, adoraram-No e\, abrindo os seus tesouros\, ofereceram-Lhe presentes – ouro\, incenso e mirra. E\, tendo recebido aviso em sonhos para não tomarem a Herodes\, voltaram por outro caminho para a sua terra.      […] \nNa Idade Média\, nos bispados que possuíam escola de meninos de coro\, a festa dos Inocentes ficou sendo a destes. Começava nas vésperas de 27 de dezembro e acabava nas do dia seguinte. Tendo escolhido entre si um «bispo»\, estes cantorzinhos apoderavam-se das estolas dos cónegos e cantavam em vez deles. A este bispo improvisado competia presidir aos ofícios\, entoar o Invitatório e o Te Deum e desempenhar outras funções que a liturgia reserva aos prelados maiores. Só lhes era retirado o báculo pastoral ao entoar-se o versículo do Magnificat: Derrubou os poderosos do trono\, no fim das segundas vésperas. Depois\, o «derrubado» oferecia um banquete aos colegas\, a expensas do cabido\, e voltava com eles para os seus bancos. Esta extravagante cerimónia também esteve em uso em Portugal\, principalmente nas comunidades religiosas (Viterbo\, Elucidário\, V. «Bispo dos Fátuos»). \nEsta curiosidade e uma apresentação um pouco mais ampla da Festa hodierna encontra-se na página 447 do III volume da obra «Santos de cada dia – Setembro\, Outubro\, Novembro\, Dezembro»\, publicado pelo Secretariado Nacional do Apostolado da Oração – 4ª edição\, revista e atualizada por António José Coelho\, S.J.\, Editorial A.O.\, Braga 2003.\nEm 2025\, neste dia celebra-se a Festa da Sagrada Família de Jesus\, Maria e José – [Domingo na Oitava do Natal] \n 
URL:https://cantabo-cs.com/canticos/os-santos-inocentes/
END:VEVENT
BEGIN:VEVENT
DTSTART;VALUE=DATE:20251228
DTEND;VALUE=DATE:20251229
DTSTAMP:20260423T194747
CREATED:20201207T151954Z
LAST-MODIFIED:20251018T081854Z
UID:15423-1766880000-1766966399@cantabo-cs.com
SUMMARY:Festa da Sagrada Família de Jesus\, Maria e José
DESCRIPTION:Miguel Ângelo\, Sagrada Família (Tondo Doni)\nFoi no quadro comum de uma família humana que se realizou o mistério da Encarnação\, pelo qual Deus feito homem habita entre os homens. Foi no seio desta família que decorreram os anos íntimos e silenciosos da infância e da juventude de Jesus\, família que se tornou modelo de toda a família e de toda a sociedade. Nos nossos dias\, a comunidade familiar\, nascida da instituição divina que é o Matrimónio\, mantém todo o seu valor. E a vida familiar\, assim iluminada e protegida\, continuará a modelar os homens à imagem de Cristo e a encaminhá-los para a vida do Céu. \n(P. Manuel da Silva Gaspar) \n======================= \n \n 
URL:https://cantabo-cs.com/canticos/natal-2020-festa-da-sagrada-familia-de-jesus-maria-e-jose/
END:VEVENT
END:VCALENDAR