BEGIN:VCALENDAR
VERSION:2.0
PRODID:-//Cantabo-CS - ECPv6.15.15//NONSGML v1.0//EN
CALSCALE:GREGORIAN
METHOD:PUBLISH
X-WR-CALNAME:Cantabo-CS
X-ORIGINAL-URL:https://cantabo-cs.com
X-WR-CALDESC:Eventos para Cantabo-CS
REFRESH-INTERVAL;VALUE=DURATION:PT1H
X-Robots-Tag:noindex
X-PUBLISHED-TTL:PT1H
BEGIN:VTIMEZONE
TZID:Europe/Lisbon
BEGIN:DAYLIGHT
TZOFFSETFROM:+0000
TZOFFSETTO:+0100
TZNAME:WEST
DTSTART:20240331T010000
END:DAYLIGHT
BEGIN:STANDARD
TZOFFSETFROM:+0100
TZOFFSETTO:+0000
TZNAME:WET
DTSTART:20241027T010000
END:STANDARD
BEGIN:DAYLIGHT
TZOFFSETFROM:+0000
TZOFFSETTO:+0100
TZNAME:WEST
DTSTART:20250330T010000
END:DAYLIGHT
BEGIN:STANDARD
TZOFFSETFROM:+0100
TZOFFSETTO:+0000
TZNAME:WET
DTSTART:20251026T010000
END:STANDARD
BEGIN:DAYLIGHT
TZOFFSETFROM:+0000
TZOFFSETTO:+0100
TZNAME:WEST
DTSTART:20260329T010000
END:DAYLIGHT
BEGIN:STANDARD
TZOFFSETFROM:+0100
TZOFFSETTO:+0000
TZNAME:WET
DTSTART:20261025T010000
END:STANDARD
END:VTIMEZONE
BEGIN:VTIMEZONE
TZID:UTC
BEGIN:STANDARD
TZOFFSETFROM:+0000
TZOFFSETTO:+0000
TZNAME:UTC
DTSTART:20240101T000000
END:STANDARD
END:VTIMEZONE
BEGIN:VEVENT
DTSTART;TZID=Europe/Lisbon:20251217T000000
DTEND;TZID=Europe/Lisbon:20251224T170000
DTSTAMP:20260423T194139
CREATED:20251018T075309Z
LAST-MODIFIED:20251018T075309Z
UID:50603-1765929600-1766595600@cantabo-cs.com
SUMMARY:Tempo do Advento | Missas de 17 a 24 de dezembro
DESCRIPTION:Celebração eucarística\nAs propostas de cânticos que se seguem\, com obras do compositor e maestro Artur Oliveira [AO]\, não excluem obviamente as composições de outros Autores\, nomeadamente as publicadas neste site\, facilmente acessíveis através de uma simples pesquisa: as aqui incluídas têm o nome do Autor devidamente assinalado.  \n17 dezembro | 4ª-feira | 18 dezembro | 5ª-feira | 19 dezembro | 6ª-feira | 20 dezembro | Sábado | 22 dezembro | 2ª-feira | \n23 dezembro | 3ª-feira | 24 dezembro | 4ª-f (M) \n24 dezembro | 4ª-f (T)
URL:https://cantabo-cs.com/canticos/tempo-do-advento-missas-de-17-a-24-de-dezembro/
END:VEVENT
BEGIN:VEVENT
DTSTART;VALUE=DATE:20251221
DTEND;VALUE=DATE:20251222
DTSTAMP:20260423T194139
CREATED:20211118T115447Z
LAST-MODIFIED:20251018T075837Z
UID:8372-1766275200-1766361599@cantabo-cs.com
SUMMARY:Quarto Domingo do Advento (Ano A)
DESCRIPTION:Não há salvação para os homens senão em Jesus Cristo\, pois Ele é o “Deus connosco”\, anunciado pelos Profetas e prometido à Virgem Maria. Filho de Deus por natureza\, assumiu a nossa condição humana e deu ao Pai a resposta duma filial obediência até á morte. E assim como Ele quis a colaboração de Maria e José\, assim quer que o seu povo continue\, no tempo e no espaço\, a obra messiânica por Ele iniciada. \nNa 1ª leitura\, o profeta Miqueias anuncia o lugar do nascimento do Messias Salvador e descreve a sua missão. Será na cidade de Belém que dará à luz Aquela que será a Mãe do Salvador. Aí nascerá o futuro Rei\, que não só trará a paz\, mas Ele mesmo será a Paz. \n[…]
URL:https://cantabo-cs.com/canticos/quarto-domingo-do-advento-ano-a/
END:VEVENT
END:VCALENDAR