BEGIN:VCALENDAR
VERSION:2.0
PRODID:-//Cantabo-CS - ECPv6.15.15//NONSGML v1.0//EN
CALSCALE:GREGORIAN
METHOD:PUBLISH
X-WR-CALNAME:Cantabo-CS
X-ORIGINAL-URL:https://cantabo-cs.com
X-WR-CALDESC:Eventos para Cantabo-CS
REFRESH-INTERVAL;VALUE=DURATION:PT1H
X-Robots-Tag:noindex
X-PUBLISHED-TTL:PT1H
BEGIN:VTIMEZONE
TZID:Europe/Lisbon
BEGIN:DAYLIGHT
TZOFFSETFROM:+0000
TZOFFSETTO:+0100
TZNAME:WEST
DTSTART:20240331T010000
END:DAYLIGHT
BEGIN:STANDARD
TZOFFSETFROM:+0100
TZOFFSETTO:+0000
TZNAME:WET
DTSTART:20241027T010000
END:STANDARD
BEGIN:DAYLIGHT
TZOFFSETFROM:+0000
TZOFFSETTO:+0100
TZNAME:WEST
DTSTART:20250330T010000
END:DAYLIGHT
BEGIN:STANDARD
TZOFFSETFROM:+0100
TZOFFSETTO:+0000
TZNAME:WET
DTSTART:20251026T010000
END:STANDARD
BEGIN:DAYLIGHT
TZOFFSETFROM:+0000
TZOFFSETTO:+0100
TZNAME:WEST
DTSTART:20260329T010000
END:DAYLIGHT
BEGIN:STANDARD
TZOFFSETFROM:+0100
TZOFFSETTO:+0000
TZNAME:WET
DTSTART:20261025T010000
END:STANDARD
END:VTIMEZONE
BEGIN:VEVENT
DTSTART;VALUE=DATE:20251208
DTEND;VALUE=DATE:20251209
DTSTAMP:20260423T194736
CREATED:20201117T085111Z
LAST-MODIFIED:20251018T074230Z
UID:15139-1765152000-1765238399@cantabo-cs.com
SUMMARY:Imaculada Conceição da Virgem Santa Maria
DESCRIPTION:No contexto litúrgico do Advento celebramos esta solenidade da Imaculada Conceição da Virgem Santa Maria. O Advento é\, sem dúvida\, o lugar litúrgico da devoção mariana\, por nele se entender melhor o significado de Maria. Ela mesma é Advento\, isto é\, expectativa ansiosa do nascimento do Filho de Deus que encarnou em seu seio\, conforme as palavras do Anjo na anunciação que lemos no Evangelho. \nO sentido desta solenidade é: “A Virgem Maria\, por graça e privilégio de Deus\, Todo-Poderoso\, em atenção aos méritos de Jesus Cristo\, Salvador do género humano\, foi preservada e imune de toda a mancha da culpa original\, no primeiro instante da sua conceção”. \n[…]
URL:https://cantabo-cs.com/canticos/imaculada-conceicao-da-virgem-santa-maria/
END:VEVENT
END:VCALENDAR