BEGIN:VCALENDAR
VERSION:2.0
PRODID:-//Cantabo-CS - ECPv6.15.15//NONSGML v1.0//EN
CALSCALE:GREGORIAN
METHOD:PUBLISH
X-WR-CALNAME:Cantabo-CS
X-ORIGINAL-URL:https://cantabo-cs.com
X-WR-CALDESC:Eventos para Cantabo-CS
REFRESH-INTERVAL;VALUE=DURATION:PT1H
X-Robots-Tag:noindex
X-PUBLISHED-TTL:PT1H
BEGIN:VTIMEZONE
TZID:Europe/Lisbon
BEGIN:DAYLIGHT
TZOFFSETFROM:+0000
TZOFFSETTO:+0100
TZNAME:WEST
DTSTART:20240331T010000
END:DAYLIGHT
BEGIN:STANDARD
TZOFFSETFROM:+0100
TZOFFSETTO:+0000
TZNAME:WET
DTSTART:20241027T010000
END:STANDARD
BEGIN:DAYLIGHT
TZOFFSETFROM:+0000
TZOFFSETTO:+0100
TZNAME:WEST
DTSTART:20250330T010000
END:DAYLIGHT
BEGIN:STANDARD
TZOFFSETFROM:+0100
TZOFFSETTO:+0000
TZNAME:WET
DTSTART:20251026T010000
END:STANDARD
BEGIN:DAYLIGHT
TZOFFSETFROM:+0000
TZOFFSETTO:+0100
TZNAME:WEST
DTSTART:20260329T010000
END:DAYLIGHT
BEGIN:STANDARD
TZOFFSETFROM:+0100
TZOFFSETTO:+0000
TZNAME:WET
DTSTART:20261025T010000
END:STANDARD
END:VTIMEZONE
BEGIN:VEVENT
DTSTART;VALUE=DATE:20251203
DTEND;VALUE=DATE:20251204
DTSTAMP:20260423T194214
CREATED:20220612T082032Z
LAST-MODIFIED:20251018T073657Z
UID:31984-1764720000-1764806399@cantabo-cs.com
SUMMARY:S. Francisco Xavier Presbítero (1506-1552) | Padroeiro das Missões
DESCRIPTION:Interior da Igreja do Bom Jesus\, Velha Goa (Índia). O Túmulo monumental de S. Francisco Xavier\, aqui “embutido” na imagem\, venera-se ao lado da nave central\, numa capela própria\n«Não é muito alto nem muito pequeno. O seu porte é nobre sem afetação\, e os seus olhos fixos continuamente no céu e humedecidos pelas lágrimas. Aos seus lábios assoma perpétuo sorriso; as suas palavras são poucas\, mas comovem até fazerem cho­rar». Esta é a imagem de Xavier que mantinha fresca na sua imaginação o Padre Baltasar Barreto\, ao escrever da Índia\, no ano de 1548. \nNas profundidades dos seus olhos negros encerravam-se as aspirações duma alma grande\, que no Oriente inteiro encontrou cárcere estreito para as suas ânsias de apostolado. \nTinha nascido … \n\n\n\n\n\n\nA parte restante da biografia encontra-se publicada em «Santos de cada dia – setembro – outubro – novembro – dezembro»\, Secretariado Nacional do Apostolado da Oração – 4ª edição\, revista e atualizada por António José Coelho\, S.J.\, Editorial A.O.\, Braga 2003 (páginas 356-359)\, que aqui mesmo\, com a devida vénia\, reproduzimos. Lá se lê este parágrafo\, antes da conclusão: \n«Ordenadas numa linha\, as suas viagens dariam três vezes a volta à terra. O Santo morreu aos 46 anos de idade e só empregou 10 para execução dos seus prodigiosos traba­lhos. Foi precisamente o tempo que empregou César para sujeitar e devastar as Gálias. E o mesmo que empregou Alexandre para fundar um império. Sonhou penetrar no coração da índia e chegar aos mares do Oriente; era pequeno conquistador para empresa tão gran­de. S. Francisco Xavier\, sem mais armas do que a sua cruz e o seu breviário\, chegou mais além que os sonhos de Alexandre. Se o guerreiro tivesse podido conhecer o Santo\, teria tremido de admiração diante dele; e até o seu mestre\, o grande estagirita Aristóteles\, teria caído de joelhos para beijar aquela mão que fez chegar o cetro de Cristo a milhares de homens».
URL:https://cantabo-cs.com/canticos/s-francisco-xavier-presbitero-1506-1552-padroeiro-das-missoes/
END:VEVENT
END:VCALENDAR