BEGIN:VCALENDAR
VERSION:2.0
PRODID:-//Cantabo-CS - ECPv6.15.15//NONSGML v1.0//EN
CALSCALE:GREGORIAN
METHOD:PUBLISH
X-ORIGINAL-URL:https://cantabo-cs.com
X-WR-CALDESC:Eventos para Cantabo-CS
REFRESH-INTERVAL;VALUE=DURATION:PT1H
X-Robots-Tag:noindex
X-PUBLISHED-TTL:PT1H
BEGIN:VTIMEZONE
TZID:UTC
BEGIN:STANDARD
TZOFFSETFROM:+0000
TZOFFSETTO:+0000
TZNAME:UTC
DTSTART:20240101T000000
END:STANDARD
END:VTIMEZONE
BEGIN:VEVENT
DTSTART;VALUE=DATE:20251122
DTEND;VALUE=DATE:20251123
DTSTAMP:20260423T210521
CREATED:20190905T155654Z
LAST-MODIFIED:20250925T071856Z
UID:7147-1763769600-1763855999@cantabo-cs.com
SUMMARY:Santa Cecília\, Virgem e Mártir
DESCRIPTION:Na basílica de Santa Cecília «in Trastevere» admira-se a estátua marmórea de Estêvão Maderno\, que em 1600 a representou como foram descobertas as suas relíquias\, nas Catacumbas.\nEmbora se trate da mesma pessoa\, na prática fala-se de duas santas Cecílias: a da história e a da lenda.\nA Cecília histórica é uma senhora romana que deu uma casa e um terreno aos cristãos dos primeiros séculos. A casa transformou-se em igreja que chamou-se mais tarde Santa Cecília in Trastevere; o terreno tomou-se o cemitério de S. Calisto\, onde foi enterrada a doadora\, perto da cripta fúnebre dos papas. Lá repousou\, sem fazer falar de si\, até ao século VI\, quando os peregrinos começaram a perguntar quem era essa Cecília cujo túmulo e cuja inscrição se encontravam em tão honrosa companhia. Para lhes satisfazer a curiosidade foi então publicada uma Paixão\, que deu origem à Cecília lendária; esta foi sem demora colocada na categoria das mártires mais ilustres. Segundo o relato da sua Paixão é uma jovem da mais alta nobreza que\, desposada contra vontade\, observa o voto de virgindade antes feito\, e morre mártir três dias depois do casamento\, depois de converter\, neste pouco tempo\, o marido\, o cunhado\, os algozes e outros 400 pagãos.\nAinda hoje está\, na mencionada igreja do Trastévere\, em Roma\, estendido na uma de cipreste\, o corpo decapitado de Santa Cecília\, com a túnica que levou quando a transportavam para as catacumbas. Não sabemos sequer em que época viveu. Há quem afirme que foi contemporânea de Marco Aurélio\, enquanto outros sustentam que foi vítima da perseguição de Diocleciano ou da de Julião Apóstata […]\nNas Atas de Santa Cecília lê-se esta frase: «Enquanto ressoavam os concertos profanos das suas núpcias\, Cecília cantava no seu coração um hino de amor a Jesus\, seu verdadeiro esposo». Estas palavras\, lidas um tanto por alto\, fizeram acreditar no talento musical de Santa Cecília e valeram-lhe o ser padroeira dos músicos. \n*** *** *** \nPode ler a parte restante da breve biografia de Santa Cecília no III volume da obra «Santos de cada dia – Setembro\, Outubro\, Novembro\, Dezembro»\, publicado pelo Secretariado Nacional do Apostolado da Oração – 4ª edição\, revista e atualizada por António José Coelho\, S.J.\, Editorial A.O.\, Braga 2003 (p. 310).
URL:https://cantabo-cs.com/canticos/santa-cecilia/
END:VEVENT
END:VCALENDAR