BEGIN:VCALENDAR
VERSION:2.0
PRODID:-//Cantabo-CS - ECPv6.15.15//NONSGML v1.0//EN
CALSCALE:GREGORIAN
METHOD:PUBLISH
X-ORIGINAL-URL:https://cantabo-cs.com
X-WR-CALDESC:Eventos para Cantabo-CS
REFRESH-INTERVAL;VALUE=DURATION:PT1H
X-Robots-Tag:noindex
X-PUBLISHED-TTL:PT1H
BEGIN:VTIMEZONE
TZID:Europe/Lisbon
BEGIN:DAYLIGHT
TZOFFSETFROM:+0000
TZOFFSETTO:+0100
TZNAME:WEST
DTSTART:20240331T010000
END:DAYLIGHT
BEGIN:STANDARD
TZOFFSETFROM:+0100
TZOFFSETTO:+0000
TZNAME:WET
DTSTART:20241027T010000
END:STANDARD
BEGIN:DAYLIGHT
TZOFFSETFROM:+0000
TZOFFSETTO:+0100
TZNAME:WEST
DTSTART:20250330T010000
END:DAYLIGHT
BEGIN:STANDARD
TZOFFSETFROM:+0100
TZOFFSETTO:+0000
TZNAME:WET
DTSTART:20251026T010000
END:STANDARD
BEGIN:DAYLIGHT
TZOFFSETFROM:+0000
TZOFFSETTO:+0100
TZNAME:WEST
DTSTART:20260329T010000
END:DAYLIGHT
BEGIN:STANDARD
TZOFFSETFROM:+0100
TZOFFSETTO:+0000
TZNAME:WET
DTSTART:20261025T010000
END:STANDARD
END:VTIMEZONE
BEGIN:VEVENT
DTSTART;VALUE=DATE:20251116
DTEND;VALUE=DATE:20251117
DTSTAMP:20260423T205816
CREATED:20210810T083322Z
LAST-MODIFIED:20251112T123858Z
UID:24610-1763251200-1763337599@cantabo-cs.com
SUMMARY:XXXIII Domingo do Tempo Comum
DESCRIPTION:Quando se verificam perturbações políticas\, quando há guerras\, fome\, e a situação de miséria se torna intolerável\, difundem-se facilmente vozes sobre o fim do mundo. Os últimos tempos\, para os autores do Novo Testamento\, não são os que virão daqui a milhões de anos\, mas aqueles que estamos a viver\, aqueles que tiveram início com a Páscoa. Não é fácil entender o sentido daquilo que está a acontecer nestes últimos tempos. Demasiadas realidades permanecem envolvidas em mistério: desgraças\, guerras\, absurdos inexplicáveis\, contradições\, sinais de morte. Utilizando linguagem e imagens apocalípticas\, Jesus quer tirar o véu que nos impede de ver o mundo com os olhos de Deus. Precisamos que a palavra de Cristo nos ilumine e\, entre os rabiscos traçados pelos homens\, nos permita ver os traços da obra-prima que o Senhor está a pintar. […]
URL:https://cantabo-cs.com/canticos/xxxiii-domingo-do-tempo-comum/
END:VEVENT
END:VCALENDAR