BEGIN:VCALENDAR
VERSION:2.0
PRODID:-//Cantabo-CS - ECPv6.15.15//NONSGML v1.0//EN
CALSCALE:GREGORIAN
METHOD:PUBLISH
X-ORIGINAL-URL:https://cantabo-cs.com
X-WR-CALDESC:Eventos para Cantabo-CS
REFRESH-INTERVAL;VALUE=DURATION:PT1H
X-Robots-Tag:noindex
X-PUBLISHED-TTL:PT1H
BEGIN:VTIMEZONE
TZID:UTC
BEGIN:STANDARD
TZOFFSETFROM:+0000
TZOFFSETTO:+0000
TZNAME:UTC
DTSTART:20240101T000000
END:STANDARD
END:VTIMEZONE
BEGIN:VEVENT
DTSTART;VALUE=DATE:20251111
DTEND;VALUE=DATE:20251112
DTSTAMP:20260423T205851
CREATED:20190905T153334Z
LAST-MODIFIED:20250925T070133Z
UID:7136-1762819200-1762905599@cantabo-cs.com
SUMMARY:S. Martinho de Tours\, Bispo (316-397)
DESCRIPTION:Nasceu S. Martinho no ano de 316\, em Sabária da Panónia\, atual Hungria. Os seus progenitores foram certamente pagãos. O pai era oficial do exército romano e foi destinado a Pavia\, onde o filho recebeu a primeira educação. Aos dez anos pediu para entrar na Igreja\, contra a vontade dos seus\, e pensava mesmo em retirar-se para o deserto. Para o libertar das influências cristãs\, aos 15 anos o pai inscreveu-o no exército e obrigou-o ao juramento militar. […]\nEntre os 15 e os 18 anos\, sendo ainda simples catecúmeno\, devemos colocar o célebre episódio de Amiens\, tão ingénuo e tão cristão. Era rigoroso Inverno e Martinho entrava na cidade\, de volta dum passeio matutino. Um pobre\, meio nu\, estendeu-lhe a mão\, pedindo esmola. Tirou a sua clâmide militar\, cortou-a ao meio com a espada e entregou metade ao mendigo. A outra lançou-a às próprias costas. Naquela noite dormiu Martinho melhor que nunca. O coração batia-lhe com os impulsos do bem praticado. Jesus Cristo apareceu-lhe vestido com o manto que ele tinha dado ao mendigo e disse-lhe: «Martinho\, ainda catecúmeno\, deu-me este vestuário». […] \n*** *** ***\nPode ler a parte restante da biografia deste Santo\, que morreu com 80 anos de idade e foi sepultado no cemitério cristão de Tours\, no III volume da obra «Santos de cada dia – Setembro\, Outubro\, Novembro\, Dezembro»\, publicado pelo Secretariado Nacional do Apostolado da Oração – 4ª edição\, revista e atualizada por António José Coelho\, S.J.\, Editorial A.O.\, Braga 2003 (páginas 269-270).
URL:https://cantabo-cs.com/canticos/s-martinho-de-tours-bispo-316-397/
END:VEVENT
END:VCALENDAR