BEGIN:VCALENDAR
VERSION:2.0
PRODID:-//Cantabo-CS - ECPv6.15.15//NONSGML v1.0//EN
CALSCALE:GREGORIAN
METHOD:PUBLISH
X-ORIGINAL-URL:https://cantabo-cs.com
X-WR-CALDESC:Eventos para Cantabo-CS
REFRESH-INTERVAL;VALUE=DURATION:PT1H
X-Robots-Tag:noindex
X-PUBLISHED-TTL:PT1H
BEGIN:VTIMEZONE
TZID:Europe/Lisbon
BEGIN:DAYLIGHT
TZOFFSETFROM:+0000
TZOFFSETTO:+0100
TZNAME:WEST
DTSTART:20240331T010000
END:DAYLIGHT
BEGIN:STANDARD
TZOFFSETFROM:+0100
TZOFFSETTO:+0000
TZNAME:WET
DTSTART:20241027T010000
END:STANDARD
BEGIN:DAYLIGHT
TZOFFSETFROM:+0000
TZOFFSETTO:+0100
TZNAME:WEST
DTSTART:20250330T010000
END:DAYLIGHT
BEGIN:STANDARD
TZOFFSETFROM:+0100
TZOFFSETTO:+0000
TZNAME:WET
DTSTART:20251026T010000
END:STANDARD
BEGIN:DAYLIGHT
TZOFFSETFROM:+0000
TZOFFSETTO:+0100
TZNAME:WEST
DTSTART:20260329T010000
END:DAYLIGHT
BEGIN:STANDARD
TZOFFSETFROM:+0100
TZOFFSETTO:+0000
TZNAME:WET
DTSTART:20261025T010000
END:STANDARD
END:VTIMEZONE
BEGIN:VEVENT
DTSTART;VALUE=DATE:20251109
DTEND;VALUE=DATE:20251110
DTSTAMP:20260423T205849
CREATED:20210810T081532Z
LAST-MODIFIED:20250925T065850Z
UID:24602-1762646400-1762732799@cantabo-cs.com
SUMMARY:Dedicação da Basílica de Latrão
DESCRIPTION:Hoje a Igreja-Mãe chama-nos a todos para Roma a fim de\, ao menos em espírito\, celebrarmos com ela o aniversário da sua Dedicação: da Dedicação da Sé Catedral do Papa\, que não é\, como julgam muitos\, a Basílica de S. Pedro do Vaticano. O Templo Lateranense é venerabilíssimo também pela antiguidade\, poesia\, arte e sobretudo pela fé que supõe nas almas e as congrega à volta do Sucessor de Pedro. Ao lado está o Batistério\, o mais venerável e sumptuoso de Roma e\, pegado ao Templo\, o palácio que foi morada dos Papas até eles irem para Avinhão e hoje é sede do Vicariato de Roma\, quer dizer\, do governo direto da diocese própria do Papa\, governo que nos assuntos ordinários é exer­cido por um Cardeal «Vigário»\, isto é\, que faz as vezes do Papa. Durante toda a antigui­dade cristã e na Idade Média\, para aqui acorreram como peregrinos os Santos\, aqui foram celebrados cinco Concílios ecuménicos. \n[…] \nPode ler a parte restante da apresentação desta Festa em «Santos de cada dia – setembro – outubro – novembro – dezembro»\, Secretariado Nacional do Apostolado da Oração – 4ª edição\, revista e atualizada por António José Coelho\, S.J.\, Editorial A.O.\, Braga 2003 (páginas 261-263).
URL:https://cantabo-cs.com/canticos/dedicacao-da-basilica-de-latrao/
END:VEVENT
END:VCALENDAR