BEGIN:VCALENDAR
VERSION:2.0
PRODID:-//Cantabo-CS - ECPv6.15.15//NONSGML v1.0//EN
CALSCALE:GREGORIAN
METHOD:PUBLISH
X-ORIGINAL-URL:https://cantabo-cs.com
X-WR-CALDESC:Eventos para Cantabo-CS
REFRESH-INTERVAL;VALUE=DURATION:PT1H
X-Robots-Tag:noindex
X-PUBLISHED-TTL:PT1H
BEGIN:VTIMEZONE
TZID:UTC
BEGIN:STANDARD
TZOFFSETFROM:+0000
TZOFFSETTO:+0000
TZNAME:UTC
DTSTART:20240101T000000
END:STANDARD
END:VTIMEZONE
BEGIN:VEVENT
DTSTART;VALUE=DATE:20251101
DTEND;VALUE=DATE:20251102
DTSTAMP:20260423T205817
CREATED:20190905T150617Z
LAST-MODIFIED:20250925T065345Z
UID:7117-1761955200-1762041599@cantabo-cs.com
SUMMARY:Solenidade de Todos os Santos
DESCRIPTION:Miguel Ângelo | Juízo Final – Capela Sistina (Museus do Vaticano)\nDiz a Constituição sobre a Sagrada Liturgia do II Concílio do Vaticano: “Os Santos\, tendo atingido\, pela multiforme graça de Deus\, a perfeição e alcançado a salvação eterna\, cantam hoje a Deus no Céu o louvor perfeito e intercedem por nós. A Igreja proclama o mistério pascal realizado na paixão e glorificação deles com Cristo; propõe aos fiéis os seus exemplos\, que conduzem os homens ao Pai por Cristo; e implora pelos seus méritos as bênçãos de Deus. Segundo a tradição\, a Igreja venera os Santos e as suas relíquias autênticas\, bem como as suas imagens. É que as festas dos Santos proclamam as grandes obras de Cristo nos seus servos e oferecem aos fiéis os bons exemplos a imitar” (104 e 111). \n[…]
URL:https://cantabo-cs.com/canticos/todos-os-santos-laudes/
END:VEVENT
END:VCALENDAR