BEGIN:VCALENDAR
VERSION:2.0
PRODID:-//Cantabo-CS - ECPv6.15.15//NONSGML v1.0//EN
CALSCALE:GREGORIAN
METHOD:PUBLISH
X-WR-CALNAME:Cantabo-CS
X-ORIGINAL-URL:https://cantabo-cs.com
X-WR-CALDESC:Eventos para Cantabo-CS
REFRESH-INTERVAL;VALUE=DURATION:PT1H
X-Robots-Tag:noindex
X-PUBLISHED-TTL:PT1H
BEGIN:VTIMEZONE
TZID:UTC
BEGIN:STANDARD
TZOFFSETFROM:+0000
TZOFFSETTO:+0000
TZNAME:UTC
DTSTART:20240101T000000
END:STANDARD
END:VTIMEZONE
BEGIN:VEVENT
DTSTART;VALUE=DATE:20251026
DTEND;VALUE=DATE:20251027
DTSTAMP:20260423T222454
CREATED:20190905T142801Z
LAST-MODIFIED:20250831T072201Z
UID:7093-1761436800-1761523199@cantabo-cs.com
SUMMARY:XXX Domingo do Tempo Comum
DESCRIPTION:A liturgia deste domingo diz-nos das condições para sermos aceites por Deus. E elas resumem-se no reconhecer a nossa pobreza e miséria diante d’Ele e confiar totalmente na sua misericórdia. As chamadas nossas boas obras são o fruto e não a causa da nossa confiança. Pergunta S. Paulo: “Que tens tu que não hajas recebido? E\, se o recebeste\, porque te glorias como se o não tivesses recebido?” (1 Cor 4\,7)
URL:https://cantabo-cs.com/canticos/xxx-domingo-do-tempo-comum/
END:VEVENT
END:VCALENDAR