BEGIN:VCALENDAR
VERSION:2.0
PRODID:-//Cantabo-CS - ECPv6.15.15//NONSGML v1.0//EN
CALSCALE:GREGORIAN
METHOD:PUBLISH
X-WR-CALNAME:Cantabo-CS
X-ORIGINAL-URL:https://cantabo-cs.com
X-WR-CALDESC:Eventos para Cantabo-CS
REFRESH-INTERVAL;VALUE=DURATION:PT1H
X-Robots-Tag:noindex
X-PUBLISHED-TTL:PT1H
BEGIN:VTIMEZONE
TZID:Europe/Lisbon
BEGIN:DAYLIGHT
TZOFFSETFROM:+0000
TZOFFSETTO:+0100
TZNAME:WEST
DTSTART:20240331T010000
END:DAYLIGHT
BEGIN:STANDARD
TZOFFSETFROM:+0100
TZOFFSETTO:+0000
TZNAME:WET
DTSTART:20241027T010000
END:STANDARD
BEGIN:DAYLIGHT
TZOFFSETFROM:+0000
TZOFFSETTO:+0100
TZNAME:WEST
DTSTART:20250330T010000
END:DAYLIGHT
BEGIN:STANDARD
TZOFFSETFROM:+0100
TZOFFSETTO:+0000
TZNAME:WET
DTSTART:20251026T010000
END:STANDARD
BEGIN:DAYLIGHT
TZOFFSETFROM:+0000
TZOFFSETTO:+0100
TZNAME:WEST
DTSTART:20260329T010000
END:DAYLIGHT
BEGIN:STANDARD
TZOFFSETFROM:+0100
TZOFFSETTO:+0000
TZNAME:WET
DTSTART:20261025T010000
END:STANDARD
END:VTIMEZONE
BEGIN:VEVENT
DTSTART;VALUE=DATE:20251012
DTEND;VALUE=DATE:20251013
DTSTAMP:20260423T222454
CREATED:20200914T161329Z
LAST-MODIFIED:20250831T055516Z
UID:14509-1760227200-1760313599@cantabo-cs.com
SUMMARY:XXVIII Domingo do Tempo Comum
DESCRIPTION:Imagem: Gebhard Fugel – “Christus und die Aussätzigen” – Cristo e os Leprosos \, fotografado pelo Autor na Exposição “Gebhard Fugel 1863-1939. Von Ravensburg nach Jerusalem”. Galeria Fähre\, Antigo Claustro\, Bad Saulgau\, 2014)\nDeus não tem preferências. Todos os homens\, independentemente da sua posição social\, riqueza\, religião ou cultura\, são pertença do seu Reino. E são-no já aqui na terra. Pelo que\, sendo os pobres abandonados es esquecidos da sociedade\, Ele Se identificou com eles. O que é preciso é ter fé. Os milagres de Jesus supõem a fé: “A tua fé te salvou”. São sinais da presença salvadora do Reino de Deus e parte integrante da Boa Nova\, que Cristo anunciou com palavras e obras.
URL:https://cantabo-cs.com/canticos/xxviii-domingo-do-tempo-comum-2/
END:VEVENT
END:VCALENDAR