BEGIN:VCALENDAR
VERSION:2.0
PRODID:-//Cantabo-CS - ECPv6.15.15//NONSGML v1.0//EN
CALSCALE:GREGORIAN
METHOD:PUBLISH
X-ORIGINAL-URL:https://cantabo-cs.com
X-WR-CALDESC:Eventos para Cantabo-CS
REFRESH-INTERVAL;VALUE=DURATION:PT1H
X-Robots-Tag:noindex
X-PUBLISHED-TTL:PT1H
BEGIN:VTIMEZONE
TZID:UTC
BEGIN:STANDARD
TZOFFSETFROM:+0000
TZOFFSETTO:+0000
TZNAME:UTC
DTSTART:20240101T000000
END:STANDARD
END:VTIMEZONE
BEGIN:VEVENT
DTSTART;VALUE=DATE:20251007
DTEND;VALUE=DATE:20251008
DTSTAMP:20260423T221832
CREATED:20190729T180823Z
LAST-MODIFIED:20250831T055728Z
UID:5564-1759795200-1759881599@cantabo-cs.com
SUMMARY:Nossa Senhora do Rosário
DESCRIPTION:Luca Giordano\, Nossa Senhora do Rosário\, 1657\nO Rosário é devoção sumamente meritória…\, sumamente impetratória…\, é verdadeiro alimento espiritual… Na reza do terço aumenta-se em nós a fé e a esperança de por Maria obtermos a abundância da divina misericórdia…\, acende-se em nosso coração a caridade\, o amor\, a gratidão a Jesus e Maria\, que tanto fizeram pela nossa salvação. Ao mesmo tempo desperta-se em nossa alma o desejo de seguir-lhes as pegadas e pertencer-lhes inteiramente. O nosso espírito enleva-se na contemplação dos grandiosos exemplos que se nos deparam nas pessoas de Jesus e Maria. \n……………………………..\nAprofunde o valor destas afirmações e conheça outros significados da festa de hoje lendo a apresentação que é feita\, de modo esquemático e bem desenvolvida\, no III volume da obra «Santos de cada dia – setembro – outubro – novembro – dezembro»\, publicada pelo Secretariado Nacional do Apostolado da Oração – 4ª edição\, revista e atualizada por António José Coelho\, S.J.\, Editorial A.O.\, Braga 2003 (páginas 138-141).
URL:https://cantabo-cs.com/canticos/nossa-senhora-do-rosario/
END:VEVENT
END:VCALENDAR