BEGIN:VCALENDAR
VERSION:2.0
PRODID:-//Cantabo-CS - ECPv6.15.15//NONSGML v1.0//EN
CALSCALE:GREGORIAN
METHOD:PUBLISH
X-ORIGINAL-URL:https://cantabo-cs.com
X-WR-CALDESC:Eventos para Cantabo-CS
REFRESH-INTERVAL;VALUE=DURATION:PT1H
X-Robots-Tag:noindex
X-PUBLISHED-TTL:PT1H
BEGIN:VTIMEZONE
TZID:UTC
BEGIN:STANDARD
TZOFFSETFROM:+0000
TZOFFSETTO:+0000
TZNAME:UTC
DTSTART:20240101T000000
END:STANDARD
END:VTIMEZONE
BEGIN:VEVENT
DTSTART;VALUE=DATE:20251001
DTEND;VALUE=DATE:20251002
DTSTAMP:20260423T221739
CREATED:20190729T175332Z
LAST-MODIFIED:20250831T045042Z
UID:5553-1759276800-1759363199@cantabo-cs.com
SUMMARY:Santa Teresa do Menino Jesus\, Religiosa\, Doutora da Igreja (1873-1897)
DESCRIPTION:A vida de Teresa do Menino Jesus e da Santa Face\, no convento\, resume­-se em poucas linhas: observância perfeita e amorosa das regras e constituições da Or­dem. Generosidade até aos mínimos pormenores na obediência e na caridade com as suas companheiras. Pobreza delicada e minuciosa. Sorriso nos lábios sempre. Alegria no re­creio. Igualdade de trato com todas. \n….\nEsta é uma breve passagem da biografia\, comovedora\, desta santa extraordinária – beatificada em 1923\, canonizada em 1925\, proclamada padroeira de todas as missões em 1927 e doutora da Igreja em 1997 – que se pode ler integralmente no III volume da obra «Santos de cada dia – setembro – outubro – novembro – dezembro»\, publicada pelo Secretariado Nacional do Apostolado da Oração – 4ª edição\, revista e atualizada por António José Coelho\, S.J.\, Editorial A.O.\, Braga 2003 (páginas 109-114).
URL:https://cantabo-cs.com/canticos/santa-teresa-do-menino-jesus-religiosa-doutora-da-igreja-1873-1897/
END:VEVENT
END:VCALENDAR