BEGIN:VCALENDAR
VERSION:2.0
PRODID:-//Cantabo-CS - ECPv6.15.15//NONSGML v1.0//EN
CALSCALE:GREGORIAN
METHOD:PUBLISH
X-WR-CALNAME:Cantabo-CS
X-ORIGINAL-URL:https://cantabo-cs.com
X-WR-CALDESC:Eventos para Cantabo-CS
REFRESH-INTERVAL;VALUE=DURATION:PT1H
X-Robots-Tag:noindex
X-PUBLISHED-TTL:PT1H
BEGIN:VTIMEZONE
TZID:Europe/Lisbon
BEGIN:DAYLIGHT
TZOFFSETFROM:+0000
TZOFFSETTO:+0100
TZNAME:WEST
DTSTART:20240331T010000
END:DAYLIGHT
BEGIN:STANDARD
TZOFFSETFROM:+0100
TZOFFSETTO:+0000
TZNAME:WET
DTSTART:20241027T010000
END:STANDARD
BEGIN:DAYLIGHT
TZOFFSETFROM:+0000
TZOFFSETTO:+0100
TZNAME:WEST
DTSTART:20250330T010000
END:DAYLIGHT
BEGIN:STANDARD
TZOFFSETFROM:+0100
TZOFFSETTO:+0000
TZNAME:WET
DTSTART:20251026T010000
END:STANDARD
BEGIN:DAYLIGHT
TZOFFSETFROM:+0000
TZOFFSETTO:+0100
TZNAME:WEST
DTSTART:20260329T010000
END:DAYLIGHT
BEGIN:STANDARD
TZOFFSETFROM:+0100
TZOFFSETTO:+0000
TZNAME:WET
DTSTART:20261025T010000
END:STANDARD
END:VTIMEZONE
BEGIN:VEVENT
DTSTART;VALUE=DATE:20250821
DTEND;VALUE=DATE:20250822
DTSTAMP:20260424T010652
CREATED:20250527T091206Z
LAST-MODIFIED:20250527T091206Z
UID:48726-1755734400-1755820799@cantabo-cs.com
SUMMARY:S. Pio X\, Papa
DESCRIPTION:Foi Papa desde 4 de Agosto de 1903 até 20 de Agosto de 1914. Chamava-se José Melchior Sarro e nasceu em Riese\, norte de Itália\, em Junho de 1835. Aluno do seminário de Pádua\, recebeu a ordenação sacerdotal em 1858. Foi coadjutor e depois pároco; em 1867 subiu a arcipreste e em 1875 a cónego de Treviso e diretor espiritual do seminário; em 1879 era vigário-geral da diocese. Em 1884 aceitou\, por obediência\, o bispado de Mântua\, tendo já em 1880 recusado o de Treviso. Em 1893 foi elevado ao cardinalato e três dias mais tarde transferido para Veneza. \n[…] \nAssim começa a breve biografia de S. Pio X publicada no II volume da obra «Santos de cada dia – Maio\, junho\, julho e agosto»\, publicada pelo Secretariado Nacional do Apostolado da Oração – 4ª edição\, revista e atualizada por António José Coelho\, S.J.\, Editorial A.O.\, Braga 2003 (páginas 436-437). Transcrevemos abaixo\, com a devida vénia\, a parte restante.
URL:https://cantabo-cs.com/canticos/s-pio-x-papa/
END:VEVENT
END:VCALENDAR