BEGIN:VCALENDAR
VERSION:2.0
PRODID:-//Cantabo-CS - ECPv6.15.15//NONSGML v1.0//EN
CALSCALE:GREGORIAN
METHOD:PUBLISH
X-WR-CALNAME:Cantabo-CS
X-ORIGINAL-URL:https://cantabo-cs.com
X-WR-CALDESC:Eventos para Cantabo-CS
REFRESH-INTERVAL;VALUE=DURATION:PT1H
X-Robots-Tag:noindex
X-PUBLISHED-TTL:PT1H
BEGIN:VTIMEZONE
TZID:UTC
BEGIN:STANDARD
TZOFFSETFROM:+0000
TZOFFSETTO:+0000
TZNAME:UTC
DTSTART:20240101T000000
END:STANDARD
END:VTIMEZONE
BEGIN:VEVENT
DTSTART;VALUE=DATE:20250814
DTEND;VALUE=DATE:20250815
DTSTAMP:20260424T010650
CREATED:20190423T144308Z
LAST-MODIFIED:20250527T085821Z
UID:4530-1755129600-1755215999@cantabo-cs.com
SUMMARY:S. Maximiliano Maria Kolbe\, Mártir (+ 1941)
DESCRIPTION:A 10 de outubro de 1982\, o papa João Paulo II canonizou este seu compatriota\, já beatificado por Paulo VI em 1971. Se o nome de Kolbe é bem conhecido\, muitos aspetos da sua personalidade e do seu apostolado são ainda ignorados por muitos. Antes de morrer no campo de concentração de Auschwitz\, num dom total da sua pessoa aos seus irmãos\, o Padre Maximiliano tinha-se manifestado como arauto da Imaculada\, ao serviço de quem mobilizara todos os recursos dos meios modernos de comunicação. \n[…] \n—————————— \nAssim começa a «Biografia» dedicada à festa hodierna. Pode ler a parte restante no II volume da obra «Santos de cada dia – Maio\, junho\, julho e agosto»\, publicada pelo Secretariado Nacional do Apostolado da Oração – 4ª edição\, revista e atualizada por António José Coelho\, S.J.\, Editorial A.O.\, Braga 2003 (páginas 416-418)\, onde encontrará também as biografias e notas históricas dos Santos e Santas de todos os outros dias do ano.  Transcrevemo-la também aqui\, com a devida vénia.
URL:https://cantabo-cs.com/canticos/s-maximiliano-maria-kolbe-martir-1941/
END:VEVENT
END:VCALENDAR