BEGIN:VCALENDAR
VERSION:2.0
PRODID:-//Cantabo-CS - ECPv6.15.15//NONSGML v1.0//EN
CALSCALE:GREGORIAN
METHOD:PUBLISH
X-ORIGINAL-URL:https://cantabo-cs.com
X-WR-CALDESC:Eventos para Cantabo-CS
REFRESH-INTERVAL;VALUE=DURATION:PT1H
X-Robots-Tag:noindex
X-PUBLISHED-TTL:PT1H
BEGIN:VTIMEZONE
TZID:Europe/Lisbon
BEGIN:DAYLIGHT
TZOFFSETFROM:+0000
TZOFFSETTO:+0100
TZNAME:WEST
DTSTART:20240331T010000
END:DAYLIGHT
BEGIN:STANDARD
TZOFFSETFROM:+0100
TZOFFSETTO:+0000
TZNAME:WET
DTSTART:20241027T010000
END:STANDARD
BEGIN:DAYLIGHT
TZOFFSETFROM:+0000
TZOFFSETTO:+0100
TZNAME:WEST
DTSTART:20250330T010000
END:DAYLIGHT
BEGIN:STANDARD
TZOFFSETFROM:+0100
TZOFFSETTO:+0000
TZNAME:WET
DTSTART:20251026T010000
END:STANDARD
BEGIN:DAYLIGHT
TZOFFSETFROM:+0000
TZOFFSETTO:+0100
TZNAME:WEST
DTSTART:20260329T010000
END:DAYLIGHT
BEGIN:STANDARD
TZOFFSETFROM:+0100
TZOFFSETTO:+0000
TZNAME:WET
DTSTART:20261025T010000
END:STANDARD
END:VTIMEZONE
BEGIN:VEVENT
DTSTART;VALUE=DATE:20250810
DTEND;VALUE=DATE:20250811
DTSTAMP:20260424T010808
CREATED:20210531T081639Z
LAST-MODIFIED:20250527T085025Z
UID:13501-1754784000-1754870399@cantabo-cs.com
SUMMARY:XIX Domingo do Tempo Comum
DESCRIPTION:Precisamos de possuir alguns bens para viver; mas não são a fonte da vida nem está neles a chave e o segredo para ser pessoa. Somente quem ama e vive em solidariedade e abertura aos outros\, dando-se a Deus e ao próximo\, tem uma vida autêntica e\, em última análise\, é feliz porque entende a vida com sabedoria. O sem-sentido da vida aparece quando o homem se fecha a Deus e aos irmãos\, pois\, sem relação com os valores perenes que Deus\, Cristo e o próximo representam\, as coisas e os bens carecem de referência que lhes dá um valor que em si mesmos não possuem para a felicidade humana\, como demonstra a experiência. \n[…]
URL:https://cantabo-cs.com/canticos/xix-domingo-do-tempo-comum-2/
END:VEVENT
END:VCALENDAR