BEGIN:VCALENDAR
VERSION:2.0
PRODID:-//Cantabo-CS - ECPv6.15.15//NONSGML v1.0//EN
CALSCALE:GREGORIAN
METHOD:PUBLISH
X-ORIGINAL-URL:https://cantabo-cs.com
X-WR-CALDESC:Eventos para Cantabo-CS
REFRESH-INTERVAL;VALUE=DURATION:PT1H
X-Robots-Tag:noindex
X-PUBLISHED-TTL:PT1H
BEGIN:VTIMEZONE
TZID:Europe/Lisbon
BEGIN:DAYLIGHT
TZOFFSETFROM:+0000
TZOFFSETTO:+0100
TZNAME:WEST
DTSTART:20240331T010000
END:DAYLIGHT
BEGIN:STANDARD
TZOFFSETFROM:+0100
TZOFFSETTO:+0000
TZNAME:WET
DTSTART:20241027T010000
END:STANDARD
BEGIN:DAYLIGHT
TZOFFSETFROM:+0000
TZOFFSETTO:+0100
TZNAME:WEST
DTSTART:20250330T010000
END:DAYLIGHT
BEGIN:STANDARD
TZOFFSETFROM:+0100
TZOFFSETTO:+0000
TZNAME:WET
DTSTART:20251026T010000
END:STANDARD
BEGIN:DAYLIGHT
TZOFFSETFROM:+0000
TZOFFSETTO:+0100
TZNAME:WEST
DTSTART:20260329T010000
END:DAYLIGHT
BEGIN:STANDARD
TZOFFSETFROM:+0100
TZOFFSETTO:+0000
TZNAME:WET
DTSTART:20261025T010000
END:STANDARD
END:VTIMEZONE
BEGIN:VEVENT
DTSTART;VALUE=DATE:20250801
DTEND;VALUE=DATE:20250802
DTSTAMP:20260424T010810
CREATED:20250527T082712Z
LAST-MODIFIED:20250527T082712Z
UID:48707-1754006400-1754092799@cantabo-cs.com
SUMMARY:Santo Afonso Maria de Ligório – Bispo\, Doutor da Igreja
DESCRIPTION:Fonte: https://www.youtube.com/watch?v=OBOmrA0lCyQ\nDistinguia-se sua mãe pela prática da piedade e mortificação. Foi batizado o nosso Santo\, com o nome de Afonso Maria\, a 29 de Setembro de 1696. Nasceu no dia 27. em Marianela\, povoação pouco distante de Nápoles.\nQuanto viria a ser grato a Deus e aos homens\, assim lho predisse S. Francisco de Jerónimo\, da Companhia de Jesus\, dirigindo-se à mãe: «Este menino morrerá velho\, muito velho; não morrerá antes dos noventa anos; será bispo e fará grandes coisas por Jesus Cristo». Com que submissão e docilidade acudia Afonso a receber de sua mãe as salutares instruções que lhe dava! Fugindo dos jogos da puerícia\, amou desde logo o retiro e o silêncio.\nPassados os anos da infância\, foi confiado à direção do padre Tomás Pagano\, sacerdote da Congregação do Oratório de S. Filipe Néri\, homem de provada virtude e doutrina. Confessava-se duas vezes por semana e começou bem cedo a saborear a oração\, a frequentar as igrejas e a venerar com filial respeito a Santíssima Virgem. \nEste é o início da página dedicada à festa hodierna\, no II volume da obra «Santos de cada dia – Maio\, junho\, julho e agosto»\, que aqui transcrevemos com a devida vénia. Pode lê-la integralmente na obra publicada pelo Secretariado Nacional do Apostolado da Oração – 4ª edição\, revista e atualizada por António José Coelho\, S.J.\, Editorial A.O.\, Braga 2003 (páginas 379-381).
URL:https://cantabo-cs.com/canticos/santo-afonso-maria-de-ligorio-bispo-doutor-da-igreja/
END:VEVENT
END:VCALENDAR