BEGIN:VCALENDAR
VERSION:2.0
PRODID:-//Cantabo-CS - ECPv6.15.15//NONSGML v1.0//EN
CALSCALE:GREGORIAN
METHOD:PUBLISH
X-WR-CALNAME:Cantabo-CS
X-ORIGINAL-URL:https://cantabo-cs.com
X-WR-CALDESC:Eventos para Cantabo-CS
REFRESH-INTERVAL;VALUE=DURATION:PT1H
X-Robots-Tag:noindex
X-PUBLISHED-TTL:PT1H
BEGIN:VTIMEZONE
TZID:Europe/Lisbon
BEGIN:DAYLIGHT
TZOFFSETFROM:+0000
TZOFFSETTO:+0100
TZNAME:WEST
DTSTART:20240331T010000
END:DAYLIGHT
BEGIN:STANDARD
TZOFFSETFROM:+0100
TZOFFSETTO:+0000
TZNAME:WET
DTSTART:20241027T010000
END:STANDARD
BEGIN:DAYLIGHT
TZOFFSETFROM:+0000
TZOFFSETTO:+0100
TZNAME:WEST
DTSTART:20250330T010000
END:DAYLIGHT
BEGIN:STANDARD
TZOFFSETFROM:+0100
TZOFFSETTO:+0000
TZNAME:WET
DTSTART:20251026T010000
END:STANDARD
BEGIN:DAYLIGHT
TZOFFSETFROM:+0000
TZOFFSETTO:+0100
TZNAME:WEST
DTSTART:20260329T010000
END:DAYLIGHT
BEGIN:STANDARD
TZOFFSETFROM:+0100
TZOFFSETTO:+0000
TZNAME:WET
DTSTART:20261025T010000
END:STANDARD
END:VTIMEZONE
BEGIN:VEVENT
DTSTART;VALUE=DATE:20250727
DTEND;VALUE=DATE:20250728
DTSTAMP:20260424T023640
CREATED:20210531T081421Z
LAST-MODIFIED:20250503T070224Z
UID:13497-1753574400-1753660799@cantabo-cs.com
SUMMARY:XVII Domingo do Tempo Comum
DESCRIPTION:A forma de rezar de maneira agradável ao Senhor desde sempre preocupou o homem. Fazer-se ouvir junto de Deus e ser atendido é a grande aspiração do homem que reza. Na Liturgia de hoje vamos aprender como deve ser a nossa oração. Não deve ser uma espécie de devoção supersticiosa e comercial\, mas\, sem deixar de ser pedido\, é essencialmente acção de graças. E\, na justa medida em que é pedido\, é também compromisso: Comprometemo-nos a repartir o pão\, a perdoar as ofensas\, a respeitar a dignidade humana. \n[…]
URL:https://cantabo-cs.com/canticos/xvii-domingo-do-tempo-comum-2/
END:VEVENT
END:VCALENDAR