BEGIN:VCALENDAR
VERSION:2.0
PRODID:-//Cantabo-CS - ECPv6.15.15//NONSGML v1.0//EN
CALSCALE:GREGORIAN
METHOD:PUBLISH
X-WR-CALNAME:Cantabo-CS
X-ORIGINAL-URL:https://cantabo-cs.com
X-WR-CALDESC:Eventos para Cantabo-CS
REFRESH-INTERVAL;VALUE=DURATION:PT1H
X-Robots-Tag:noindex
X-PUBLISHED-TTL:PT1H
BEGIN:VTIMEZONE
TZID:UTC
BEGIN:STANDARD
TZOFFSETFROM:+0000
TZOFFSETTO:+0000
TZNAME:UTC
DTSTART:20240101T000000
END:STANDARD
END:VTIMEZONE
BEGIN:VEVENT
DTSTART;VALUE=DATE:20250725
DTEND;VALUE=DATE:20250726
DTSTAMP:20260424T023156
CREATED:20190322T145807Z
LAST-MODIFIED:20250502T164943Z
UID:4294-1753401600-1753487999@cantabo-cs.com
SUMMARY:S. Tiago Maior\, Apóstolo
DESCRIPTION:Estátua de Sâo Tiago\, em Compostela\nJuan de Flandres | São Tiago Peregrino – Museu de Santiago e dos Peregrinos (Compostela)\nHá dois Apóstolos com o nome de Tiago: Tiago Menor\, filho de Alfeu e de uma Maria\, primo de Jesus. Escreveu uma Epístola que faz parte da Bíblia. Levou vida de grande penitência. No ano 62 morreu mártir em Jerusalém\, cidade de que era Bispo. A sua festa celebra-se a 3 de maio. \nTiago Maior. Ele e seu irmão\, João Evangelista\, eram filhos de Zebedeu e Salomé. O Evangelho conta assim a sua vocação: «Viu Tiago\, filho de Zebedeu\, e seu irmão João\, que estavam no barco a consertar as redes\, e chamou-os logo. Eles\, deixando no barco seu pai Zebedeu com os assalariados\, foram após Ele» (Mc 1\, 19-20). \nEstes dois irmãos formam\, com S. Pedro\, o grupo dos três Apóstolos prediletos de Cristo. \n[…] \n  \nAssim começa a breve «biografia» de S. Tiago Maior no capítulo que lhe é dedicado no II volume da obra «Santos de cada dia – Maio\, junho\, julho e agosto»\, que aqui transcrevemos com a devida vénia. Pode lê-la integralmente nas páginas 358-360 dessa obra\, publicada pelo Secretariado Nacional do Apostolado da Oração – 4ª edição\, revista e atualizada por António José Coelho\, S.J.\, Editorial A.O.\, Braga 2003.\n===============================
URL:https://cantabo-cs.com/canticos/s-tiago-maior-apostolo/
END:VEVENT
END:VCALENDAR