BEGIN:VCALENDAR
VERSION:2.0
PRODID:-//Cantabo-CS - ECPv6.15.15//NONSGML v1.0//EN
CALSCALE:GREGORIAN
METHOD:PUBLISH
X-WR-CALNAME:Cantabo-CS
X-ORIGINAL-URL:https://cantabo-cs.com
X-WR-CALDESC:Eventos para Cantabo-CS
REFRESH-INTERVAL;VALUE=DURATION:PT1H
X-Robots-Tag:noindex
X-PUBLISHED-TTL:PT1H
BEGIN:VTIMEZONE
TZID:Europe/Lisbon
BEGIN:DAYLIGHT
TZOFFSETFROM:+0000
TZOFFSETTO:+0100
TZNAME:WEST
DTSTART:20240331T010000
END:DAYLIGHT
BEGIN:STANDARD
TZOFFSETFROM:+0100
TZOFFSETTO:+0000
TZNAME:WET
DTSTART:20241027T010000
END:STANDARD
BEGIN:DAYLIGHT
TZOFFSETFROM:+0000
TZOFFSETTO:+0100
TZNAME:WEST
DTSTART:20250330T010000
END:DAYLIGHT
BEGIN:STANDARD
TZOFFSETFROM:+0100
TZOFFSETTO:+0000
TZNAME:WET
DTSTART:20251026T010000
END:STANDARD
BEGIN:DAYLIGHT
TZOFFSETFROM:+0000
TZOFFSETTO:+0100
TZNAME:WEST
DTSTART:20260329T010000
END:DAYLIGHT
BEGIN:STANDARD
TZOFFSETFROM:+0100
TZOFFSETTO:+0000
TZNAME:WET
DTSTART:20261025T010000
END:STANDARD
END:VTIMEZONE
BEGIN:VEVENT
DTSTART;VALUE=DATE:20250723
DTEND;VALUE=DATE:20250724
DTSTAMP:20260424T023157
CREATED:20210531T084821Z
LAST-MODIFIED:20250502T165038Z
UID:13513-1753228800-1753315199@cantabo-cs.com
SUMMARY:Santa Brígida\, Co-Padroeira da Europa
DESCRIPTION:Santuário de Santa Rita de Cassia\nNa capela do Santíssimo\, na basílica de S. Paulo em Roma\, há uma estátua de mármore desta grande vidente\, a Santa mais famosa dos países escandinavos. Está representada em atitude de quem escuta a voz do celestial Esposo Jesus Cristo\, que lhe fala da cruz. Aos pés da estátua há um letreiro que diz: «Com o ouvido atento recebe as palavras do seu Deus Crucificado; recebe o Verbo de Deus no seu coração».\nEsta é a característica da grande Santa sueca: a sua intimidade constante com Jesus\, a sua familiaridade\, as suas íntimas comunicações e a sua docilidade infantil. O que mais admira nela é a união extraordinária da vida interior com a exterior. É uma Santa mística que vivia no céu e é também uma Santa peregrina\, em constante movimento de fundações e de visitas a santuários.\nNasceu Santa Brígida na Suécia\, no ano de 1302\, e morreu em Roma\, em 1373.0 pai foi Birge\, governador e juiz provincial de Uppland\, homem cristianíssimo e aparenta-do com os reis da Suécia. A mãe\, Sigrida\, descendia também de reis. Não pôde influir na educação da filha porque morreu muito cedo; a menina foi confiada a uma tia\, grande educadora\, que soube modelar o carácter e a vontade da sobrinha.\nAos treze anos\, em 1316\, casou-se com o príncipe de Nericia\, Wulfon\, que por sua vez não contava mais de 18 anos. Era também cristão consciente e piedoso: concordou com a noiva em guardarem castidade perfeita no primeiro ano do matrimónio. Deus abençoou-lhes a pureza e deu-lhes oito filhos\, entre eles uma Santa\, Catarina\, que mais tarde acompanhará nas peregrinações a mãe e cuidará da sua glorificação com sentença papal.\nEm 1346\, fundou Santa Brígida um mosteiro em Vadstena\, que os reis da Suécia dotaram. Passados três anos\, saiu para Roma com a filha\, a futura Santa Catarina. Praticava uma pobreza estrita; chegava até a mendigar à porta das igrejas para receber desprezos. A uma princesa romana que a repreendia de não manter a sua condição\, respondeu: «Como Jesus se abaixou sem pedir o vosso consentimento\, porque não havia eu de prescindir dele quando me esforço por imitá-Lo?».\nUns dez anos antes de morrer\, fundou ela a ordem de São Salvador (brigidinas)\, que esteve algum tempo muito espalhada.\nCom os papas\, refugiados desde 1309 em Avinhão\, insistia ela para que voltassem a Roma. No princípio de 1372\, partiu para a Terra Santa. Nesta viagem perigosa acompanharam-na sua filha Catarina\, os seus filhos\, os cavaleiros Carlos e Birger\, assim como uma escolta bem armada. «Foram\, dizia ela\, os quinze mais belos meses da minha vida». Voltou a Roma mesmo à justa para lá morrer\, o que se deu a 23 de Julho de 1373. No ano seguinte\, sua filha Santa Catarina trasladou-lhe os restos para a Suécia e começou os primeiros trabalhos para a canonização\, que se veio a realizar em 1391\, sendo papa Bonifácio IX. \n\nEstas são breves passagens\, aqui transcritas com a devida vénia\, da biografia desta santa que se pode ler na obra «Santos de cada dia – II (Maio – Junho – Julho – Agosto)» (páginas 353-354)\, publicada pelo Secretariado Nacional do Apostolado da Oração – 4ª edição\, revista e atualizada por António José Coelho\, S.J.\, Editorial A.O.\, Braga 2003.
URL:https://cantabo-cs.com/canticos/santa-brigida-padroeira-da-europa/
END:VEVENT
END:VCALENDAR