BEGIN:VCALENDAR
VERSION:2.0
PRODID:-//Cantabo-CS - ECPv6.15.15//NONSGML v1.0//EN
CALSCALE:GREGORIAN
METHOD:PUBLISH
X-ORIGINAL-URL:https://cantabo-cs.com
X-WR-CALDESC:Eventos para Cantabo-CS
REFRESH-INTERVAL;VALUE=DURATION:PT1H
X-Robots-Tag:noindex
X-PUBLISHED-TTL:PT1H
BEGIN:VTIMEZONE
TZID:Europe/Lisbon
BEGIN:DAYLIGHT
TZOFFSETFROM:+0000
TZOFFSETTO:+0100
TZNAME:WEST
DTSTART:20240331T010000
END:DAYLIGHT
BEGIN:STANDARD
TZOFFSETFROM:+0100
TZOFFSETTO:+0000
TZNAME:WET
DTSTART:20241027T010000
END:STANDARD
BEGIN:DAYLIGHT
TZOFFSETFROM:+0000
TZOFFSETTO:+0100
TZNAME:WEST
DTSTART:20250330T010000
END:DAYLIGHT
BEGIN:STANDARD
TZOFFSETFROM:+0100
TZOFFSETTO:+0000
TZNAME:WET
DTSTART:20251026T010000
END:STANDARD
BEGIN:DAYLIGHT
TZOFFSETFROM:+0000
TZOFFSETTO:+0100
TZNAME:WEST
DTSTART:20260329T010000
END:DAYLIGHT
BEGIN:STANDARD
TZOFFSETFROM:+0100
TZOFFSETTO:+0000
TZNAME:WET
DTSTART:20261025T010000
END:STANDARD
END:VTIMEZONE
BEGIN:VEVENT
DTSTART;VALUE=DATE:20250720
DTEND;VALUE=DATE:20250721
DTSTAMP:20260424T023316
CREATED:20210531T135825Z
LAST-MODIFIED:20250503T065819Z
UID:14197-1752969600-1753055999@cantabo-cs.com
SUMMARY:XVI Domingo do Tempo Comum
DESCRIPTION:Diego Velázquez | Cristo em casa de Marta e Maria (1618)\nA Liturgia deste domingo fala-nos de hospitalidade. Também para os cristãos a hospitalidade é chamada de atenção à sua condição de peregrinos neste mundo. Mas lembra-lhes sobretudo que Cristo veio ao mundo como forasteiro. Hoje Ele continua a pedir hospitalidade: “Olha que Eu estou à porta e bato”. Uma das características da nossa civilização urbana é o anonimato. Moramos no mesmo edifício e não nos conhecemos. Os cristãos devem intervir para fazer da família uma comunidade aberta ao diálogo com o mundo\, promovendo uma autêntica educação social e favorecendo os movimentos de abertura aos outros\, a começar pelos mais necessitados \n[…]
URL:https://cantabo-cs.com/canticos/xxvi-domingo-do-tempo-comum-2/
END:VEVENT
END:VCALENDAR