BEGIN:VCALENDAR
VERSION:2.0
PRODID:-//Cantabo-CS - ECPv6.15.15//NONSGML v1.0//EN
CALSCALE:GREGORIAN
METHOD:PUBLISH
X-WR-CALNAME:Cantabo-CS
X-ORIGINAL-URL:https://cantabo-cs.com
X-WR-CALDESC:Eventos para Cantabo-CS
REFRESH-INTERVAL;VALUE=DURATION:PT1H
X-Robots-Tag:noindex
X-PUBLISHED-TTL:PT1H
BEGIN:VTIMEZONE
TZID:UTC
BEGIN:STANDARD
TZOFFSETFROM:+0000
TZOFFSETTO:+0000
TZNAME:UTC
DTSTART:20240101T000000
END:STANDARD
END:VTIMEZONE
BEGIN:VEVENT
DTSTART;VALUE=DATE:20250718
DTEND;VALUE=DATE:20250719
DTSTAMP:20260424T023221
CREATED:20190322T144808Z
LAST-MODIFIED:20250502T122601Z
UID:4288-1752796800-1752883199@cantabo-cs.com
SUMMARY:São Bartolomeu dos Mártires\, Bispo (1514-1590)
DESCRIPTION:Bartolomeu Fernandes dos Mártires nasceu em Lisboa\, em maio de 1514. O apelido «Mártires» recorda a igreja de Santa Maria dos Mártires onde foi baptizado e substituiu o apelido «Vale» que usara em memória do avô. \nRecebe o hábito dominicano a 11 de novembro de 1528\, faz o noviciado no mosteiro de Lisboa\, tendo concluído os estudos filosóficos e teológicos em 1538. \n[…] Ensinou nos conventos de Lisboa\, «da Batalha» e Évora (1538-1557)\, passando a prior de Benfica\, em Lisboa (1557-1558). De todo este aturado labor intelectual\, deixou escrita uma vasta obra: um Comentário à maior parte da Suma de S. Tomás\, o Compêndio da Doutrina Espiritual para guia da alma nos caminhos da perfeição e outras… Apresentado pela rainha Catarina para suceder a D. Frei Baltazar Limpo\, como Arcebispo de Braga\, é confirmado nessa missão pelo Papa Paulo IV\, por meio da bula «Gratiae divinae praemium»\, datada de Janeiro de 1559. Só aceitou o cargo por obediência ao seu provincial\, Frei Luís de Granada. […] A sua atividade na vastíssima arquidiocese foi\, desde o início\, intensa e multifacetada. \n[…] \nEstes são alguns breves excertos do capítulo sobre o santo que hoje é comemorado pela Igreja Católica\, extraídos do II volume da obra «Santos de cada dia – Maio\, junho\, julho e agosto»\, que aqui transcrevemos\, com a devida vénia. Pode ler integralmente a sua história desenvolvida páginas 341-344 da obra publicada pelo Secretariado Nacional do Apostolado da Oração – 4ª edição\, revista e atualizada por António José Coelho\, S.J.\, Editorial A.O.\, Braga 2003 – ou na página de Propostas de Cânticos para a Celebração Eucarística.\n \n  \n 
URL:https://cantabo-cs.com/canticos/beato-frei-bartolomeu-dos-martires-bispo-1514-1590/
END:VEVENT
END:VCALENDAR