BEGIN:VCALENDAR
VERSION:2.0
PRODID:-//Cantabo-CS - ECPv6.15.15//NONSGML v1.0//EN
CALSCALE:GREGORIAN
METHOD:PUBLISH
X-WR-CALNAME:Cantabo-CS
X-ORIGINAL-URL:https://cantabo-cs.com
X-WR-CALDESC:Eventos para Cantabo-CS
REFRESH-INTERVAL;VALUE=DURATION:PT1H
X-Robots-Tag:noindex
X-PUBLISHED-TTL:PT1H
BEGIN:VTIMEZONE
TZID:UTC
BEGIN:STANDARD
TZOFFSETFROM:+0000
TZOFFSETTO:+0000
TZNAME:UTC
DTSTART:20240101T000000
END:STANDARD
END:VTIMEZONE
BEGIN:VEVENT
DTSTART;VALUE=DATE:20250716
DTEND;VALUE=DATE:20250717
DTSTAMP:20260424T023157
CREATED:20190322T144350Z
LAST-MODIFIED:20250502T123238Z
UID:4285-1752624000-1752710399@cantabo-cs.com
SUMMARY:Nossa Senhora do Carmo
DESCRIPTION:VIRGEM SANTA MARIA DO MONTE CARMELO\nSimão Stock era inglês e pertencia a uma ilustre família do condado de Kent. Favorecido desde criança com graças extraordinárias\, aos 12 anos de idade foi conduzido pelo espírito de Deus a um deserto\, onde vivia em austera penitência; servia-lhe de morada o tronco duma árvore\, donde lhe veio o sobrenome de Stock\, que em língua inglesa significa tronco. \nVivia há 20 anos nesta solidão\, ocupado somente na oração e penitência\, quando chegaram à Inglaterra os religiosos Carmelitas\, expulsos da Palestina pela perseguição religiosa dos sarracenos. Não tardou Simão em juntar-se-lhes\, logo que foi testemunha das suas virtudes e sobretudo da sua admirável devoção à Santíssima Virgem\, a quem ele amava com entranhada ternura. De tal maneira se distinguiu o novo religioso pela eminente santidade e pelo ardor do seu zelo\, que em 1245 os seus irmãos elegeram-no Superior Geral da Ordem. \n[…] \nEstes são os primeiros dois parágrafos do capítulo sobre Nossa Senhora do Carmo\, extraídos do II volume da obra «Santos de cada dia – Maio\, junho\, julho e agosto»\, que aqui transcrevemos\, com a devida vénia. Pode ler integralmente a sua história que se encontra bastante desenvolvida páginas 327-330 da obra publicada pelo Secretariado Nacional do Apostolado da Oração – 4ª edição\, revista e atualizada por António José Coelho\, S.J.\, Editorial A.O.\, Braga 2003.
URL:https://cantabo-cs.com/canticos/nossa-senhora-do-carmo/
END:VEVENT
END:VCALENDAR