BEGIN:VCALENDAR
VERSION:2.0
PRODID:-//Cantabo-CS - ECPv6.15.15//NONSGML v1.0//EN
CALSCALE:GREGORIAN
METHOD:PUBLISH
X-ORIGINAL-URL:https://cantabo-cs.com
X-WR-CALDESC:Eventos para Cantabo-CS
REFRESH-INTERVAL;VALUE=DURATION:PT1H
X-Robots-Tag:noindex
X-PUBLISHED-TTL:PT1H
BEGIN:VTIMEZONE
TZID:Europe/Lisbon
BEGIN:DAYLIGHT
TZOFFSETFROM:+0000
TZOFFSETTO:+0100
TZNAME:WEST
DTSTART:20240331T010000
END:DAYLIGHT
BEGIN:STANDARD
TZOFFSETFROM:+0100
TZOFFSETTO:+0000
TZNAME:WET
DTSTART:20241027T010000
END:STANDARD
BEGIN:DAYLIGHT
TZOFFSETFROM:+0000
TZOFFSETTO:+0100
TZNAME:WEST
DTSTART:20250330T010000
END:DAYLIGHT
BEGIN:STANDARD
TZOFFSETFROM:+0100
TZOFFSETTO:+0000
TZNAME:WET
DTSTART:20251026T010000
END:STANDARD
BEGIN:DAYLIGHT
TZOFFSETFROM:+0000
TZOFFSETTO:+0100
TZNAME:WEST
DTSTART:20260329T010000
END:DAYLIGHT
BEGIN:STANDARD
TZOFFSETFROM:+0100
TZOFFSETTO:+0000
TZNAME:WET
DTSTART:20261025T010000
END:STANDARD
END:VTIMEZONE
BEGIN:VEVENT
DTSTART;VALUE=DATE:20250715
DTEND;VALUE=DATE:20250716
DTSTAMP:20260424T023345
CREATED:20250501T152716Z
LAST-MODIFIED:20250501T152716Z
UID:47240-1752537600-1752623999@cantabo-cs.com
SUMMARY:S. Boaventura\, bispo e doutor da Igreja – (1221-1274)
DESCRIPTION:Discípulo fervoroso de S. Francisco\, que não se cansava de exclamar «Meu Deus e meu tudo»\, S. Boaventura não teve na vida outro anelo que não fosse o encontro com Deus. A sua vida é encontro constante com Ele.\nNasceu em Bagnorea (Bagnoreggio)\, perto de Viterbo\, Itália\, no ano de 1221 e\, sendo ainda menino\, quando se chamava João de Fidanza\, S. Francisco de Assis passou junto de sua casa\, pôs-lhe na cabeça dolorida as mãos trémulas\, curou-o duma grave doença e exclamou: Oh! boa ventura! Assim se pretende explicar a origem do seu nome de bom augúrio.\nAos 17 anos entrou na Ordem de S. Francisco\, o qual parece ter-lhe deixado\, como Elias ao discípulo Eliseu\, uma centelha do seu grande espírito.\nAos 22 anos foi enviado a Paris e lá encontrou\, felizmente\, como mestre o Doutor Irrefragável\, Alexandre d’Halès\, que sabia animar a ciência com o sopro do espírito. S. Boaventura ouviu-lhe três anos as lições e\, a seguir\, em 1247\, herdou a cátedra «do seu pai e seu mestre». Explicou as sentenças de Pedro Lombardo e a Sagrada Escritura até 1255. Em 1257 foi eleito Geral da Ordem Franciscana\, cargo que desempenhou até 1274\, pouco antes da morte. \nPode continuar a ler esta breve biografia de S. Boaventura AQUI\, ou nas páginas 324-325 do II volume da obra «Santos de cada dia – Maio\, junho\, julho e agosto»\, que aqui transcrevemos\, com a devida vénia. A obra foi publicada pelo Secretariado Nacional do Apostolado da Oração – 4ª edição\, revista e atualizada por António José Coelho\, S.J.\, Editorial A.O.\, Braga 2003.
URL:https://cantabo-cs.com/canticos/s-boaventura-bispo-e-doutor-da-igreja-1221-1274/
END:VEVENT
END:VCALENDAR